BEGIN:VCALENDAR
VERSION:2.0
PRODID:-//Weekly Alibi - ECPv6.1.3//NONSGML v1.0//EN
CALSCALE:GREGORIAN
METHOD:PUBLISH
X-WR-CALNAME:Weekly Alibi
X-ORIGINAL-URL:https://alibi.com
X-WR-CALDESC:Events for Weekly Alibi
REFRESH-INTERVAL;VALUE=DURATION:PT1H
X-Robots-Tag:noindex
X-PUBLISHED-TTL:PT1H
BEGIN:VTIMEZONE
TZID:America/Denver
BEGIN:DAYLIGHT
TZOFFSETFROM:-0700
TZOFFSETTO:-0600
TZNAME:MDT
DTSTART:20230312T090000
END:DAYLIGHT
BEGIN:STANDARD
TZOFFSETFROM:-0600
TZOFFSETTO:-0700
TZNAME:MST
DTSTART:20231105T080000
END:STANDARD
END:VTIMEZONE
BEGIN:VEVENT
DTSTART;TZID=America/Denver:20231117T173000
DTEND;TZID=America/Denver:20231117T200000
DTSTAMP:20260419T110726
CREATED:20231106T165615Z
LAST-MODIFIED:20231106T165615Z
UID:10000329-1700242200-1700251200@alibi.com
SUMMARY:Review Santa Fe's Portfolio Walk & Book Fair
DESCRIPTION:CENTER provides a platform for the public to view the 2023 Review Santa Fe artist portfolios and a chance to network with the invited photo professionals. The Portfolio Walk welcomes esteemed gallerists\, curators\, editors\, and other lens-based art enthusiasts to view a broad range of contemporary and documentary photography encompassing social\, environmental\, and political issues. \nFor one night only\, join us for an extraordinary opportunity to network with the invited lens-based professionals along with the Santa Fe community. Attendees can take home the latest book releases and unique zines from the invited photographers and publishers in attendance. \nPhotographic Book Fair: The Portfolio Walk has expanded to include a selection of notable photographic book publishers\, indie publications\, and art-book enthusiasts\, to discover new projects and exchange ideas\, the Photographic Book Fair offers the opportunity to explore the photographic book’s contribution to contemporary lens-based practice. Showcasing newly released publications from several publishers that have signed books will be available for purchase – Axle Contemporary\, Blurb\, Candela Books\, Dear Dave\, Magazine\, Grenade in a Jar\, photo-eye\, Skylark Editions\, Steven Katzman Photography\, and Saint Lucy Books\, among others. \nWe are excited to welcome the public to this special exposition! Preview the Review Santa Fe photographers in the coming weeks online at reviewsantafelisting.org. \nWHEN • Friday\, November 17\, from 5:30 – 8:00 PM\nWHERE • Farmers’ Market Pavilion – 1607 Paseo De Peralta\, Santa Fe\, NM\nHOW • Free and Public
URL:https://alibi.com/event/review-santa-fes-portfolio-walk-book-fair/
LOCATION:Farmers’ Market Pavilion\, 1607 Paseo De Peralta\, Santa Fe\, NM\, 87501\, United States
CATEGORIES:Fairs & Festivals
ATTACH;FMTTYPE=image/jpeg:https://alibi.com/wp-content/uploads/2023/08/318717200_10160800525111694_4573617294078828055_n.jpg
END:VEVENT
BEGIN:VEVENT
DTSTART;TZID=America/Denver:20231111T100000
DTEND;TZID=America/Denver:20231111T160000
DTSTAMP:20260419T110726
CREATED:20230901T020017Z
LAST-MODIFIED:20230901T020017Z
UID:10000277-1699696800-1699718400@alibi.com
SUMMARY:The Art of Gifting: New Mexico Arts & Crafts Festival
DESCRIPTION:Give creative this holiday season! \nCome shop for unique\, locally handmade gifts from New Mexico artists and vendors on Saturday\, November 11th. \nIn addition to the over 100 local artists vendors\, there will be unique and fun workshops onsite so you can make your own crafts. \n• Free entrance\n• Gift making workshops\n• Free and easy parking\n• Convenient location\n• Wide variety of artists\n• Over 100+ local vendors\n• Food trucks \nTo view vendors\, workshop schedule\, and more details\, visit ce.unm.edu/arts-festival \nAbout UNM Continuing Education: \nFor over 95 years\, UNM Continuing Education has been the bridge between the community and the University of New Mexico. With thousands of programs in art\, creative writing\, crafts\, languages\, cooking and many others\, UNM Continuing Education is connected to some of the most talented artists\, instructors and organizations in our community.
URL:https://alibi.com/event/the-art-of-gifting-new-mexico-arts-crafts-festival/
LOCATION:UNM Continuing Education\, 1634 University Blvd. NE\, Albuquerque\, NM\, 87102\, United States
CATEGORIES:Fairs & Festivals
ATTACH;FMTTYPE=image/jpeg:https://alibi.com/wp-content/uploads/2023/08/art-fest-2023-1200px.jpg
END:VEVENT
BEGIN:VEVENT
DTSTART;VALUE=DATE:20231104
DTEND;VALUE=DATE:20231105
DTSTAMP:20260419T110726
CREATED:20230911T201529Z
LAST-MODIFIED:20230911T201529Z
UID:10000284-1699056000-1699142399@alibi.com
SUMMARY:Craft Fair
DESCRIPTION:13th Annual Craft Fair\, Saturday\, November 4th\, 9 AM to 3 PM\, Rio Rancho United Methodist Church\, 1652 Abrazo Road NE\, Rio Rancho\, NM 87124\, Over 55 Vendors\, All with Hand-Crafted Items
URL:https://alibi.com/event/craft-fair/
LOCATION:Rio Rancho United Methodist Church\, 1652 Abrazo Road NE\, Rio Rancho\, NM\, 87124\, United States
CATEGORIES:Fairs & Festivals
ATTACH;FMTTYPE=image/jpeg:https://alibi.com/wp-content/uploads/2023/08/craft-fair.jpg
END:VEVENT
BEGIN:VEVENT
DTSTART;TZID=America/Denver:20231021T090000
DTEND;TZID=America/Denver:20231021T160000
DTSTAMP:20260419T110726
CREATED:20231106T164836Z
LAST-MODIFIED:20231106T164836Z
UID:10000319-1697878800-1697904000@alibi.com
SUMMARY:Third Annual Carlos Otero Art Show and Mantanza
DESCRIPTION:Looking for something to do today? Our Lady of Guadalupe Parish in Peralta NM invites you to the Third Annual Carlos Otero Art Show and Mantanza! We will be showcasing local artists\, a silent auction\, food\, raffles\, music and much more. Come on down to Peralta\, NM just 20 minutes south of Albuquerque on beautiful Hwy 47. Hope to see you there\, come early and come hungry.
URL:https://alibi.com/event/third-annual-carlos-otero-art-show-and-mantanza/
LOCATION:Our Lady of Guadalupe Parish\, 3674 Hwy 47\, Peralta\, NM\, 87042\, United States
CATEGORIES:Fairs & Festivals
ATTACH;FMTTYPE=image/jpeg:https://alibi.com/wp-content/uploads/2023/08/Art-Show-Mantanza-.jpeg
END:VEVENT
BEGIN:VEVENT
DTSTART;TZID=America/Denver:20231020T153000
DTEND;TZID=America/Denver:20231022T150000
DTSTAMP:20260419T110726
CREATED:20231106T164955Z
LAST-MODIFIED:20231106T164955Z
UID:10000324-1697815800-1697986800@alibi.com
SUMMARY:Panels: Santa Fe International Film Festival 2023
DESCRIPTION:Santa Fe International Film Festival (SFiFF) is the premiere forum for international and independent cinema in New Mexico. SFiFF serves as a creative center for film year-round\, and as a presentation of the year’s top films each October. On Friday\, Saturday and Sunday\, SFIFF will hold several panel discussions at form & concept. \nFRIDAY\, OCTOBER 20 \n3:30-4:30 pm: The Last Ecstatic Days Panel \nSATURDAY\, OCTOBER 21 \n12:30-1:30 pm: Casting Society of America Panel & New Mexico Film Salon \n2:00-3:00 pm: Writers Dialogue\nKirk Ellis (John Adams\, Franklin) and David Seidler (The King’s Speech) \n3:30-4:30 pm: Directors Panel\nKim Albright (With Love a Major Organ)\, Sheridan O’Donnell (Little Brother)\, Cody Lightning (Hey Viktor!) \nSUNDAY\, OCTOBER 22 \n11:00 am-12:00 pm: Nonfiction Filmmaker Panel \n2:00-3:00 pm: Production & Finance Panel\nMichael D. Jones (Silverheart Production) and Scott Garen
URL:https://alibi.com/event/panels-santa-fe-international-film-festival-2023/
LOCATION:Form & Concept\, 435 S Guadalupe St\, Santa Fe\, NM\, 87501\, United States
CATEGORIES:Fairs & Festivals
ATTACH;FMTTYPE=image/jpeg:https://alibi.com/wp-content/uploads/2023/08/sfiff2023call.jpeg
END:VEVENT
BEGIN:VEVENT
DTSTART;TZID=America/Denver:20231006T090000
DTEND;TZID=America/Denver:20231008T170000
DTSTAMP:20260419T110726
CREATED:20230918T211844Z
LAST-MODIFIED:20230918T211844Z
UID:10000290-1696582800-1696784400@alibi.com
SUMMARY:Abq. Fall Gem\, Mineral & Jewelry Show
DESCRIPTION:Abq. Fall Gem\, Mineral & Jewelry Show\, Oct.6 – 8\, 2023 at Expo NM State Fairgrounds\, 300 San Pedro NE\, 87108 in the Creative Arts Bldg. Enter at Gate 3 @ 300 San Pedro and Copper. FREE ADMISSION! Open daily 9am – 5pm. 70 dealers\, mineral specimens\, rough\, slabs\, jewelry\, cabochons\, beads\, findings\, fossils\, petrified wood\, tools\, equipment. Contact: Jay Penn\, 505-883-4195\, jaypenn246@gmail.com\, http://abqfallshow.wix.com/abq-fall-show
URL:https://alibi.com/event/abq-fall-gem-mineral-jewelry-show/
LOCATION:Expo NM State Fairgrounds\, 300 San Pedro NE\, Albuquerque\, NM\, 87108\, United States
CATEGORIES:Fairs & Festivals
ATTACH;FMTTYPE=image/jpeg:https://alibi.com/wp-content/uploads/2023/08/Oct.-2023-pstcrd.jpg
END:VEVENT
BEGIN:VEVENT
DTSTART;TZID=America/Denver:20230914T130000
DTEND;TZID=America/Denver:20230914T135000
DTSTAMP:20260419T110726
CREATED:20230914T003951Z
LAST-MODIFIED:20230914T003951Z
UID:10000286-1694696400-1694699400@alibi.com
SUMMARY:Attend a Pre-Eclipse Talk at The Museum to Find out What to Expect and How to View It Safely.
DESCRIPTION:The following dates: All are free with museum or planetarium admission \nGet ready for the upcoming Annular Eclipse! \nThursday September 14\, 1-1:50pm in the Planetarium.\nWednesday\, September 20\, 1-1:50pm in the Planetarium.\nSaturday September 30 \,4-4:50pm in the Planetarium.\nThursday\, October 5\, 5:30pm in the Planetarium \nOct 9-13. Every day from noon to 3pm. Eclipse family afternoons. Hands-on activities\, eclipse planetarium show\, solar viewing\, and short talk by a guest NASA solar expert. Free with museum or planetarium admission \nOct. 14. View the annular eclipse from the Museum grounds and inside through monitors linked to our own observatory. Before and after the eclipse the museum will offer hands-on activities\, real time images of the eclipse around the country from NASA\, and continual planetarium presentations. All free with regular museum admission. Note: no regular planetarium shows scheduled for that day.
URL:https://alibi.com/event/attend-a-pre-eclipse-talk-at-the-museum-to-find-out-what-to-expect-and-how-to-view-it-safely/
LOCATION:New Mexico Museum of Natural History & Science\, 1801 Mountain Road NW\, Albuquerque\, NM\, 87104\, United States
CATEGORIES:Fairs & Festivals
ATTACH;FMTTYPE=image/jpeg:https://alibi.com/wp-content/uploads/2023/08/LCCrumpler_RioPuerco_2012.jpg
END:VEVENT
BEGIN:VEVENT
DTSTART;TZID=America/Denver:20230826T090000
DTEND;TZID=America/Denver:20230826T140000
DTSTAMP:20260419T110726
CREATED:20230821T194958Z
LAST-MODIFIED:20230821T194958Z
UID:10000004-1693040400-1693058400@alibi.com
SUMMARY:Mariposa Harvest Festival
DESCRIPTION:Food trucks\, music\, 100+ vendors\, arts & crafts\, gourmet food\, jewelry\, yard art\, and more! Free $50 raffle drawing every hour!
URL:https://alibi.com/event/mariposa-harvest-festival/
LOCATION:Mariposa Community Center\, 2501 Parkway Ave.\, Rio Rancho\, NM\, 87144\, United States
CATEGORIES:Fairs & Festivals
ATTACH;FMTTYPE=image/jpeg:https://alibi.com/wp-content/uploads/2023/08/Harvest-Fest.jpg
END:VEVENT
END:VCALENDAR