BEGIN:VCALENDAR
VERSION:2.0
PRODID:-//Weekly Alibi - ECPv6.1.3//NONSGML v1.0//EN
CALSCALE:GREGORIAN
METHOD:PUBLISH
X-ORIGINAL-URL:https://alibi.com
X-WR-CALDESC:Events for Weekly Alibi
REFRESH-INTERVAL;VALUE=DURATION:PT1H
X-Robots-Tag:noindex
X-PUBLISHED-TTL:PT1H
BEGIN:VTIMEZONE
TZID:America/Denver
BEGIN:DAYLIGHT
TZOFFSETFROM:-0700
TZOFFSETTO:-0600
TZNAME:MDT
DTSTART:20240310T090000
END:DAYLIGHT
BEGIN:STANDARD
TZOFFSETFROM:-0600
TZOFFSETTO:-0700
TZNAME:MST
DTSTART:20241103T080000
END:STANDARD
END:VTIMEZONE
BEGIN:VEVENT
DTSTART;TZID=America/Denver:20240315T193000
DTEND;TZID=America/Denver:20240315T210000
DTSTAMP:20260421T081621
CREATED:20231108T162630Z
LAST-MODIFIED:20231108T162630Z
UID:10000361-1710531000-1710536400@alibi.com
SUMMARY:Dinosaur World Live!
DESCRIPTION:Step back into the Jurassic with this family-friendly\, 50-minute puppet adventure! Encounter remarkably lifelike dinosaurs including the mighty Tyrannosaurus Rex\, the mischievous Triceratops\, and the agile Microraptor. This entertaining and educational expedition is filled with dangers and delights from a world lost in time.
URL:https://alibi.com/event/dinosaur-world-live/
LOCATION:Popejoy Hall\, 203 Cornell Dr\, Albuquerque\, NM\, 87131\, United States
CATEGORIES:Family & Kids
ATTACH;FMTTYPE=image/jpeg:https://alibi.com/wp-content/uploads/2023/08/7217_02_DWL_LANDSCAPE_1920x1080.jpg
END:VEVENT
BEGIN:VEVENT
DTSTART;TZID=America/Denver:20240317T150000
DTEND;TZID=America/Denver:20240317T170000
DTSTAMP:20260421T081621
CREATED:20231108T162722Z
LAST-MODIFIED:20231108T162722Z
UID:10000360-1710687600-1710694800@alibi.com
SUMMARY:Omnium Circus
DESCRIPTION:Experience a circus like no other. The multi-abled and multi-talented performers of Omnium Circus push the limits of human abilities\, defying expectations and celebrating the power of dreams. You won’t believe what’s possible!
URL:https://alibi.com/event/omnium-circus/
LOCATION:Popejoy Hall\, 203 Cornell Dr\, Albuquerque\, NM\, 87131\, United States
CATEGORIES:Family & Kids
ATTACH;FMTTYPE=image/png:https://alibi.com/wp-content/uploads/2023/08/Company-photo-with-logo-1200-x-774-px.png
END:VEVENT
END:VCALENDAR