BEGIN:VCALENDAR
VERSION:2.0
PRODID:-//Weekly Alibi - ECPv6.1.3//NONSGML v1.0//EN
CALSCALE:GREGORIAN
METHOD:PUBLISH
X-ORIGINAL-URL:https://alibi.com
X-WR-CALDESC:Events for Weekly Alibi
REFRESH-INTERVAL;VALUE=DURATION:PT1H
X-Robots-Tag:noindex
X-PUBLISHED-TTL:PT1H
BEGIN:VTIMEZONE
TZID:America/Denver
BEGIN:DAYLIGHT
TZOFFSETFROM:-0700
TZOFFSETTO:-0600
TZNAME:MDT
DTSTART:20240310T090000
END:DAYLIGHT
BEGIN:STANDARD
TZOFFSETFROM:-0600
TZOFFSETTO:-0700
TZNAME:MST
DTSTART:20241103T080000
END:STANDARD
END:VTIMEZONE
BEGIN:VEVENT
DTSTART;TZID=America/Denver:20240106T160000
DTEND;TZID=America/Denver:20240203T173000
DTSTAMP:20260420T142743
CREATED:20240115T165450Z
LAST-MODIFIED:20240115T165450Z
UID:10000405-1704556800-1706981400@alibi.com
SUMMARY:New Year Align\, UNIVERSAL DANCE\, Winter Immersive Engagements
DESCRIPTION:Immersive Saturday evening engagements of ecstatic movements\, and meditation\, heightening awareness\, cultivate ‘The Intelligence of The Heart’. \nCentering  Clarifying  Strengthening  Union \nGuided Movements  Exercises\nBreathwork  Chanting  Meditative\nDancing  Live Sufi Trance Drumming  Whirling \nUNIVERSAL DANCE\nSATURDAY Evenings through February 3\n4-530p 90 mins \nAncient Traditions Open Healing Techniques\nTimeless Mystical Sufism \nIntroductory Offers & Incentives \nRSVP\nonline enrollment required \n#healthbuilding #meditation #transformationaljourney
URL:https://alibi.com/event/new-year-align-universal-dance-winter-immersive-engagements/
LOCATION:Carlos Machado Jiu Jitsu Albuquerque\, 5600 San Francisco Rd NE\, Albuquerque\, NM\, 87109\, United States
CATEGORIES:Health & Wellness
ATTACH;FMTTYPE=image/jpeg:https://alibi.com/wp-content/uploads/2023/08/DSC_0329_lr_ps_90.jpg
END:VEVENT
BEGIN:VEVENT
DTSTART;TZID=America/Denver:20240205T100000
DTEND;TZID=America/Denver:20240226T113000
DTSTAMP:20260420T142743
CREATED:20240115T165438Z
LAST-MODIFIED:20240115T165438Z
UID:10000411-1707127200-1708947000@alibi.com
SUMMARY:Mindful Yoga Flow\, February 4 Week Yoga Series
DESCRIPTION:Sacred Roots Pelvic Health & Physical Therapy is hosting a 4 week Mindful Yoga series. These classes will be led by Laura Morris. She is an educator who specializes in training public school teachers in mindfulness as well as an amazing yoga instructor. \nThis series will be perfect for you if you’re wanting to ease in to 2024 with a little bit of mindfulness and a little bit of playfulness. \nTimes: February 4th\, 11th\, 18th\, and 25th at 10:30 60 minute yoga practice \nTea and Registration 10-10:30. \nAll levels are welcome. \nRegistration is required as space is limited. To register\, email at info@sacredrootspt.com or text us at 505-506-6943. The cost of the entire series is $60.
URL:https://alibi.com/event/mindful-yoga-flow-february-4-week-yoga-series/
LOCATION:Sacred Roots Pelvic Health & Physical Therapy\, 6931 4TH ST.\, Los Ranchos de Albuquerque\, NM\, 87107\, United States
CATEGORIES:Health & Wellness
ATTACH;FMTTYPE=image/png:https://alibi.com/wp-content/uploads/2023/08/Beige-and-Ivory-Illustrative-Yoga-Day-Poster-Posters.png
END:VEVENT
BEGIN:VEVENT
DTSTART;TZID=America/Denver:20240222T093000
DTEND;TZID=America/Denver:20240223T173000
DTSTAMP:20260420T142743
CREATED:20231211T211716Z
LAST-MODIFIED:20231211T211716Z
UID:10000384-1708594200-1708709400@alibi.com
SUMMARY:7th International Dermatology Conference: Skin and Body
DESCRIPTION:We ME Conferences foresee to hospitable you all to the conference event that will present an opportunity to learn from each other and to meet with colleagues from all elements of the globe to be a part of “7th International Dermatology Conference: Skin and Body” which is going to be scheduled during February 22-23\, 2024 in Zurich\, Switzerland. Dermatology is the investigation of cutaneous illnesses at a minuscule level\, which likewise includes considering potential reasons for skin\, nail or hair issues at the phone level.  The purpose of Skin Body 2024 is to promote interest\, stimulate research\, and spread information on all aspects of environmental and occupational skin diseases.
URL:https://alibi.com/event/7th-international-dermatology-conference-skin-and-body/
LOCATION:form & concept\, 435 S. Guadalupe St.\, Santa Fe\, NM\, 87501\, United States
CATEGORIES:Health & Wellness
ATTACH;FMTTYPE=image/jpeg:https://alibi.com/wp-content/uploads/2023/08/Sb-1.jpg
END:VEVENT
END:VCALENDAR