BEGIN:VCALENDAR
VERSION:2.0
PRODID:-//Weekly Alibi - ECPv6.1.3//NONSGML v1.0//EN
CALSCALE:GREGORIAN
METHOD:PUBLISH
X-WR-CALNAME:Weekly Alibi
X-ORIGINAL-URL:https://alibi.com
X-WR-CALDESC:Events for Weekly Alibi
REFRESH-INTERVAL;VALUE=DURATION:PT1H
X-Robots-Tag:noindex
X-PUBLISHED-TTL:PT1H
BEGIN:VTIMEZONE
TZID:America/Denver
BEGIN:DAYLIGHT
TZOFFSETFROM:-0700
TZOFFSETTO:-0600
TZNAME:MDT
DTSTART:20240310T090000
END:DAYLIGHT
BEGIN:STANDARD
TZOFFSETFROM:-0600
TZOFFSETTO:-0700
TZNAME:MST
DTSTART:20241103T080000
END:STANDARD
END:VTIMEZONE
BEGIN:VEVENT
DTSTART;TZID=America/Denver:20240217T140000
DTEND;TZID=America/Denver:20240217T180000
DTSTAMP:20260419T104212
CREATED:20240115T165447Z
LAST-MODIFIED:20240115T165447Z
UID:10000408-1708178400-1708192800@alibi.com
SUMMARY:Mercado Southside
DESCRIPTION:Explore the Southside! Bring the whole familia and enjoy 30+ Southside vendors\, music and danza folklórica. Free admission. To learn more or to participate as a vendor\, go to https://www.santafechamber.com/mercado-southside.html\n¡Explora el Southside! Trae a toda tu familia y disfruta de más de 30 vendedores locales\, música y danza folklórica. Evento gratuito. Para más información o para participar como vendedor\, visita https://www.santafechamber.com/mercado-southside.html\nPatrocinado por / Sponsored by:\nSanta Fe Chamber of Commerce\nCity of Santa Fe Office of Economic Development\nDel Norte Credit Union\nEnterprise Bank & Trust\nGuadalupe Credit Union\nHutton Broadcasting\nLos Alamos National Laboratory\nNusenda Credit Union\nPNM\nSam’s Club\nSandia Area Federal Credit Union\nState Employees Credit Union
URL:https://alibi.com/event/mercado-southside/
LOCATION:Fraternal Order of Police\, 3300 Calle Maria Luisa\, Santa Fe\, NM\, 87507\, United States
CATEGORIES:Shopping & Fashion
ATTACH;FMTTYPE=image/png:https://alibi.com/wp-content/uploads/2023/08/Mercado-Southside_Feb-2024-8.5-×-11-in.png
END:VEVENT
END:VCALENDAR