BEGIN:VCALENDAR
VERSION:2.0
PRODID:-//Weekly Alibi - ECPv6.1.3//NONSGML v1.0//EN
CALSCALE:GREGORIAN
METHOD:PUBLISH
X-WR-CALNAME:Weekly Alibi
X-ORIGINAL-URL:https://alibi.com
X-WR-CALDESC:Events for Weekly Alibi
REFRESH-INTERVAL;VALUE=DURATION:PT1H
X-Robots-Tag:noindex
X-PUBLISHED-TTL:PT1H
BEGIN:VTIMEZONE
TZID:America/Denver
BEGIN:DAYLIGHT
TZOFFSETFROM:-0700
TZOFFSETTO:-0600
TZNAME:MDT
DTSTART:20230312T090000
END:DAYLIGHT
BEGIN:STANDARD
TZOFFSETFROM:-0600
TZOFFSETTO:-0700
TZNAME:MST
DTSTART:20231105T080000
END:STANDARD
END:VTIMEZONE
BEGIN:VEVENT
DTSTART;TZID=America/Denver:20230913T190000
DTEND;TZID=America/Denver:20230913T210000
DTSTAMP:20260419T194630
CREATED:20230825T204703Z
LAST-MODIFIED:20230825T205334Z
UID:10000007-1694631600-1694638800@alibi.com
SUMMARY:Tractor Trivia League
DESCRIPTION:Your host Dan Dangerously is back at Tractor in Nob Hill as the true Trivia Daddy. He’ll be your guide in this journey that will test your mental might! Join us every Wednesday for some monster trivia!
URL:https://alibi.com/event/tractor-trivia-league/2023-09-13/
LOCATION:Tractor Brewing Company (Nob Hill)\, 118 Tulane SE\, Albuquerque\, NM\, 87106\, United States
CATEGORIES:Food & Drink,Nightlife,Special Interest,Sports & Recreation
ATTACH;FMTTYPE=image/jpeg:https://alibi.com/wp-content/uploads/2023/08/325799711_577367790543481_8728432551080901921_n.jpg
END:VEVENT
BEGIN:VEVENT
DTSTART;TZID=America/Denver:20230906T190000
DTEND;TZID=America/Denver:20230906T210000
DTSTAMP:20260419T194630
CREATED:20230825T204703Z
LAST-MODIFIED:20230825T205334Z
UID:10000006-1694026800-1694034000@alibi.com
SUMMARY:Tractor Trivia League
DESCRIPTION:Your host Dan Dangerously is back at Tractor in Nob Hill as the true Trivia Daddy. He’ll be your guide in this journey that will test your mental might! Join us every Wednesday for some monster trivia!
URL:https://alibi.com/event/tractor-trivia-league/2023-09-06/
LOCATION:Tractor Brewing Company (Nob Hill)\, 118 Tulane SE\, Albuquerque\, NM\, 87106\, United States
CATEGORIES:Food & Drink,Nightlife,Special Interest,Sports & Recreation
ATTACH;FMTTYPE=image/jpeg:https://alibi.com/wp-content/uploads/2023/08/325799711_577367790543481_8728432551080901921_n.jpg
END:VEVENT
BEGIN:VEVENT
DTSTART;TZID=America/Denver:20230903T190000
DTEND;TZID=America/Denver:20230903T230000
DTSTAMP:20260419T194630
CREATED:20230829T190437Z
LAST-MODIFIED:20230829T190437Z
UID:10000275-1693767600-1693782000@alibi.com
SUMMARY:The Bridge at Santa Fe Brewing Presents... Acclaimed Louisiana Blues Guitarist\, Tab Benoit
DESCRIPTION:(Santa Fe NM) – Renowned Louisiana blues guitarist Tab Benoit continues his Summer 2023 Tour\, performing locally at The Bridge at Santa Fe Brewing\, 37 Fire Place\, Saturday\, September 3. Show: 7:00pm. Tickets: $40. (advance)\, $45. (day of show). Info: (505) 884-0434 or visit www.santafebrewing.com. \nOpening for Benoit on this leg of his tour: The Rumble featuring Chief Joseph Boudreaux Jr.\, who feature six Grammy-nominated musicians and have just released a new album\, Live At The Maple Leaf. Joseph is the son of Grammy-nominated Big Chief Monk Boudreaux.
URL:https://alibi.com/event/the-bridge-at-santa-fe-brewing-presents-acclaimed-louisiana-blues-guitarist-tab-benoit/
LOCATION:The Bridge At Santa Fe Brewing Company\, 37 Fire Place\, Santa Fe\, NM\, 87508\, United States
CATEGORIES:Music
ATTACH;FMTTYPE=image/jpeg:https://alibi.com/wp-content/uploads/2023/08/Tab-Benoit-Live-2023-Photo-Smaller-Version-By-Marilyn-Stringer.jpg
END:VEVENT
BEGIN:VEVENT
DTSTART;TZID=America/Denver:20230901T180000
DTEND;TZID=America/Denver:20230901T203000
DTSTAMP:20260419T194630
CREATED:20230828T143329Z
LAST-MODIFIED:20230828T143343Z
UID:10000274-1693591200-1693600200@alibi.com
SUMMARY:Opening Reception for The Architecture of Beauty – Works by Prominent Nm Artists
DESCRIPTION:Please join us for our First Friday Artscrawl reception September 1\, 6 – 8:30 pm\nSpanish Guitar music by Christian Vincent\, food trucks\, refreshments\, music\, and door prizes! Vote for your favorite artist for the “People’s Choice Award.” \nThis exhibition\, curated by Regina Held\, showcases 360 works of art by 17 well-known and beloved New Mexico artists working in a variety of genres and media. 40% of each art sale is tax-deductible and goes to the New Mexico Cancer Center Foundation supporting our patients’ non-medical needs during their battle with life-changing illness. \nParticipating artists:\nBrandon Allebach\, Karen Benelli\, Michael Billie\, Kevin Black\, Tom Blazier\, Donna Loraine Contractor\, John DeSpain\, David Douglas\, Jaci Fischer\, Tom Gavitt\, Colleen Z. Gregoire\, Dara Mark\, Catalina Salinas\, Nicholas Tesluk\, Sondra Wampler\, Alice Webb and Seoung Youn. \nShow runs through August 18\, 2023. Gallery visits by appointment\, regina@gallerywithacause.org. Free event and free parking. \nExhibition runs through November 17\, 2023
URL:https://alibi.com/event/opening-reception-for-the-architecture-of-beauty-works-by-prominent-nm-artists/
LOCATION:Gallery with a Cause Located Inside the New Mexico Cancer Center\, 4901 Lang Ave. NE\, Albuquerque\, NM\, 87109\, United States
CATEGORIES:Arts & Culture
ATTACH;FMTTYPE=image/jpeg:https://alibi.com/wp-content/uploads/2023/08/Artichoke.jpg
END:VEVENT
BEGIN:VEVENT
DTSTART;TZID=America/Denver:20230830T190000
DTEND;TZID=America/Denver:20230830T210000
DTSTAMP:20260419T194630
CREATED:20230825T204703Z
LAST-MODIFIED:20230825T205334Z
UID:10000005-1693422000-1693429200@alibi.com
SUMMARY:Tractor Trivia League
DESCRIPTION:Your host Dan Dangerously is back at Tractor in Nob Hill as the true Trivia Daddy. He’ll be your guide in this journey that will test your mental might! Join us every Wednesday for some monster trivia!
URL:https://alibi.com/event/tractor-trivia-league/2023-08-30/
LOCATION:Tractor Brewing Company (Nob Hill)\, 118 Tulane SE\, Albuquerque\, NM\, 87106\, United States
CATEGORIES:Food & Drink,Nightlife,Special Interest,Sports & Recreation
ATTACH;FMTTYPE=image/jpeg:https://alibi.com/wp-content/uploads/2023/08/325799711_577367790543481_8728432551080901921_n.jpg
END:VEVENT
BEGIN:VEVENT
DTSTART;TZID=America/Denver:20230826T090000
DTEND;TZID=America/Denver:20230826T140000
DTSTAMP:20260419T194630
CREATED:20230821T194958Z
LAST-MODIFIED:20230821T194958Z
UID:10000004-1693040400-1693058400@alibi.com
SUMMARY:Mariposa Harvest Festival
DESCRIPTION:Food trucks\, music\, 100+ vendors\, arts & crafts\, gourmet food\, jewelry\, yard art\, and more! Free $50 raffle drawing every hour!
URL:https://alibi.com/event/mariposa-harvest-festival/
LOCATION:Mariposa Community Center\, 2501 Parkway Ave.\, Rio Rancho\, NM\, 87144\, United States
CATEGORIES:Fairs & Festivals
ATTACH;FMTTYPE=image/jpeg:https://alibi.com/wp-content/uploads/2023/08/Harvest-Fest.jpg
END:VEVENT
END:VCALENDAR