BEGIN:VCALENDAR
VERSION:2.0
PRODID:-//Weekly Alibi - ECPv6.1.3//NONSGML v1.0//EN
CALSCALE:GREGORIAN
METHOD:PUBLISH
X-ORIGINAL-URL:https://alibi.com
X-WR-CALDESC:Events for Weekly Alibi
REFRESH-INTERVAL;VALUE=DURATION:PT1H
X-Robots-Tag:noindex
X-PUBLISHED-TTL:PT1H
BEGIN:VTIMEZONE
TZID:America/Denver
BEGIN:DAYLIGHT
TZOFFSETFROM:-0700
TZOFFSETTO:-0600
TZNAME:MDT
DTSTART:20240310T090000
END:DAYLIGHT
BEGIN:STANDARD
TZOFFSETFROM:-0600
TZOFFSETTO:-0700
TZNAME:MST
DTSTART:20241103T080000
END:STANDARD
END:VTIMEZONE
BEGIN:VEVENT
DTSTART;TZID=America/Denver:20240828T190000
DTEND;TZID=America/Denver:20240828T210000
DTSTAMP:20260420T161806
CREATED:20230825T204703Z
LAST-MODIFIED:20230825T205334Z
UID:10000057-1724871600-1724878800@alibi.com
SUMMARY:Tractor Trivia League
DESCRIPTION:Your host Dan Dangerously is back at Tractor in Nob Hill as the true Trivia Daddy. He’ll be your guide in this journey that will test your mental might! Join us every Wednesday for some monster trivia!
URL:https://alibi.com/event/tractor-trivia-league/2024-08-28/
LOCATION:Tractor Brewing Company (Nob Hill)\, 118 Tulane SE\, Albuquerque\, NM\, 87106\, United States
CATEGORIES:Food & Drink,Nightlife,Special Interest,Sports & Recreation
ATTACH;FMTTYPE=image/jpeg:https://alibi.com/wp-content/uploads/2023/08/325799711_577367790543481_8728432551080901921_n.jpg
END:VEVENT
BEGIN:VEVENT
DTSTART;TZID=America/Denver:20240821T190000
DTEND;TZID=America/Denver:20240821T210000
DTSTAMP:20260420T161806
CREATED:20230825T204703Z
LAST-MODIFIED:20230825T205334Z
UID:10000056-1724266800-1724274000@alibi.com
SUMMARY:Tractor Trivia League
DESCRIPTION:Your host Dan Dangerously is back at Tractor in Nob Hill as the true Trivia Daddy. He’ll be your guide in this journey that will test your mental might! Join us every Wednesday for some monster trivia!
URL:https://alibi.com/event/tractor-trivia-league/2024-08-21/
LOCATION:Tractor Brewing Company (Nob Hill)\, 118 Tulane SE\, Albuquerque\, NM\, 87106\, United States
CATEGORIES:Food & Drink,Nightlife,Special Interest,Sports & Recreation
ATTACH;FMTTYPE=image/jpeg:https://alibi.com/wp-content/uploads/2023/08/325799711_577367790543481_8728432551080901921_n.jpg
END:VEVENT
BEGIN:VEVENT
DTSTART;TZID=America/Denver:20240814T190000
DTEND;TZID=America/Denver:20240814T210000
DTSTAMP:20260420T161806
CREATED:20230825T204703Z
LAST-MODIFIED:20230825T205334Z
UID:10000055-1723662000-1723669200@alibi.com
SUMMARY:Tractor Trivia League
DESCRIPTION:Your host Dan Dangerously is back at Tractor in Nob Hill as the true Trivia Daddy. He’ll be your guide in this journey that will test your mental might! Join us every Wednesday for some monster trivia!
URL:https://alibi.com/event/tractor-trivia-league/2024-08-14/
LOCATION:Tractor Brewing Company (Nob Hill)\, 118 Tulane SE\, Albuquerque\, NM\, 87106\, United States
CATEGORIES:Food & Drink,Nightlife,Special Interest,Sports & Recreation
ATTACH;FMTTYPE=image/jpeg:https://alibi.com/wp-content/uploads/2023/08/325799711_577367790543481_8728432551080901921_n.jpg
END:VEVENT
BEGIN:VEVENT
DTSTART;TZID=America/Denver:20240807T190000
DTEND;TZID=America/Denver:20240807T210000
DTSTAMP:20260420T161806
CREATED:20230825T204703Z
LAST-MODIFIED:20230825T205334Z
UID:10000054-1723057200-1723064400@alibi.com
SUMMARY:Tractor Trivia League
DESCRIPTION:Your host Dan Dangerously is back at Tractor in Nob Hill as the true Trivia Daddy. He’ll be your guide in this journey that will test your mental might! Join us every Wednesday for some monster trivia!
URL:https://alibi.com/event/tractor-trivia-league/2024-08-07/
LOCATION:Tractor Brewing Company (Nob Hill)\, 118 Tulane SE\, Albuquerque\, NM\, 87106\, United States
CATEGORIES:Food & Drink,Nightlife,Special Interest,Sports & Recreation
ATTACH;FMTTYPE=image/jpeg:https://alibi.com/wp-content/uploads/2023/08/325799711_577367790543481_8728432551080901921_n.jpg
END:VEVENT
BEGIN:VEVENT
DTSTART;TZID=America/Denver:20240731T190000
DTEND;TZID=America/Denver:20240731T210000
DTSTAMP:20260420T161806
CREATED:20230825T204703Z
LAST-MODIFIED:20230825T205334Z
UID:10000053-1722452400-1722459600@alibi.com
SUMMARY:Tractor Trivia League
DESCRIPTION:Your host Dan Dangerously is back at Tractor in Nob Hill as the true Trivia Daddy. He’ll be your guide in this journey that will test your mental might! Join us every Wednesday for some monster trivia!
URL:https://alibi.com/event/tractor-trivia-league/2024-07-31/
LOCATION:Tractor Brewing Company (Nob Hill)\, 118 Tulane SE\, Albuquerque\, NM\, 87106\, United States
CATEGORIES:Food & Drink,Nightlife,Special Interest,Sports & Recreation
ATTACH;FMTTYPE=image/jpeg:https://alibi.com/wp-content/uploads/2023/08/325799711_577367790543481_8728432551080901921_n.jpg
END:VEVENT
BEGIN:VEVENT
DTSTART;TZID=America/Denver:20240724T190000
DTEND;TZID=America/Denver:20240724T210000
DTSTAMP:20260420T161806
CREATED:20230825T204703Z
LAST-MODIFIED:20230825T205334Z
UID:10000052-1721847600-1721854800@alibi.com
SUMMARY:Tractor Trivia League
DESCRIPTION:Your host Dan Dangerously is back at Tractor in Nob Hill as the true Trivia Daddy. He’ll be your guide in this journey that will test your mental might! Join us every Wednesday for some monster trivia!
URL:https://alibi.com/event/tractor-trivia-league/2024-07-24/
LOCATION:Tractor Brewing Company (Nob Hill)\, 118 Tulane SE\, Albuquerque\, NM\, 87106\, United States
CATEGORIES:Food & Drink,Nightlife,Special Interest,Sports & Recreation
ATTACH;FMTTYPE=image/jpeg:https://alibi.com/wp-content/uploads/2023/08/325799711_577367790543481_8728432551080901921_n.jpg
END:VEVENT
BEGIN:VEVENT
DTSTART;TZID=America/Denver:20240717T190000
DTEND;TZID=America/Denver:20240717T210000
DTSTAMP:20260420T161806
CREATED:20230825T204703Z
LAST-MODIFIED:20230825T205334Z
UID:10000051-1721242800-1721250000@alibi.com
SUMMARY:Tractor Trivia League
DESCRIPTION:Your host Dan Dangerously is back at Tractor in Nob Hill as the true Trivia Daddy. He’ll be your guide in this journey that will test your mental might! Join us every Wednesday for some monster trivia!
URL:https://alibi.com/event/tractor-trivia-league/2024-07-17/
LOCATION:Tractor Brewing Company (Nob Hill)\, 118 Tulane SE\, Albuquerque\, NM\, 87106\, United States
CATEGORIES:Food & Drink,Nightlife,Special Interest,Sports & Recreation
ATTACH;FMTTYPE=image/jpeg:https://alibi.com/wp-content/uploads/2023/08/325799711_577367790543481_8728432551080901921_n.jpg
END:VEVENT
BEGIN:VEVENT
DTSTART;TZID=America/Denver:20240710T190000
DTEND;TZID=America/Denver:20240710T210000
DTSTAMP:20260420T161806
CREATED:20230825T204703Z
LAST-MODIFIED:20230825T205334Z
UID:10000050-1720638000-1720645200@alibi.com
SUMMARY:Tractor Trivia League
DESCRIPTION:Your host Dan Dangerously is back at Tractor in Nob Hill as the true Trivia Daddy. He’ll be your guide in this journey that will test your mental might! Join us every Wednesday for some monster trivia!
URL:https://alibi.com/event/tractor-trivia-league/2024-07-10/
LOCATION:Tractor Brewing Company (Nob Hill)\, 118 Tulane SE\, Albuquerque\, NM\, 87106\, United States
CATEGORIES:Food & Drink,Nightlife,Special Interest,Sports & Recreation
ATTACH;FMTTYPE=image/jpeg:https://alibi.com/wp-content/uploads/2023/08/325799711_577367790543481_8728432551080901921_n.jpg
END:VEVENT
BEGIN:VEVENT
DTSTART;TZID=America/Denver:20240703T190000
DTEND;TZID=America/Denver:20240703T210000
DTSTAMP:20260420T161806
CREATED:20230825T204703Z
LAST-MODIFIED:20230825T205334Z
UID:10000049-1720033200-1720040400@alibi.com
SUMMARY:Tractor Trivia League
DESCRIPTION:Your host Dan Dangerously is back at Tractor in Nob Hill as the true Trivia Daddy. He’ll be your guide in this journey that will test your mental might! Join us every Wednesday for some monster trivia!
URL:https://alibi.com/event/tractor-trivia-league/2024-07-03/
LOCATION:Tractor Brewing Company (Nob Hill)\, 118 Tulane SE\, Albuquerque\, NM\, 87106\, United States
CATEGORIES:Food & Drink,Nightlife,Special Interest,Sports & Recreation
ATTACH;FMTTYPE=image/jpeg:https://alibi.com/wp-content/uploads/2023/08/325799711_577367790543481_8728432551080901921_n.jpg
END:VEVENT
BEGIN:VEVENT
DTSTART;TZID=America/Denver:20240626T190000
DTEND;TZID=America/Denver:20240626T210000
DTSTAMP:20260420T161806
CREATED:20230825T204703Z
LAST-MODIFIED:20230825T205334Z
UID:10000048-1719428400-1719435600@alibi.com
SUMMARY:Tractor Trivia League
DESCRIPTION:Your host Dan Dangerously is back at Tractor in Nob Hill as the true Trivia Daddy. He’ll be your guide in this journey that will test your mental might! Join us every Wednesday for some monster trivia!
URL:https://alibi.com/event/tractor-trivia-league/2024-06-26/
LOCATION:Tractor Brewing Company (Nob Hill)\, 118 Tulane SE\, Albuquerque\, NM\, 87106\, United States
CATEGORIES:Food & Drink,Nightlife,Special Interest,Sports & Recreation
ATTACH;FMTTYPE=image/jpeg:https://alibi.com/wp-content/uploads/2023/08/325799711_577367790543481_8728432551080901921_n.jpg
END:VEVENT
BEGIN:VEVENT
DTSTART;TZID=America/Denver:20240619T190000
DTEND;TZID=America/Denver:20240619T210000
DTSTAMP:20260420T161806
CREATED:20230825T204703Z
LAST-MODIFIED:20230825T205334Z
UID:10000047-1718823600-1718830800@alibi.com
SUMMARY:Tractor Trivia League
DESCRIPTION:Your host Dan Dangerously is back at Tractor in Nob Hill as the true Trivia Daddy. He’ll be your guide in this journey that will test your mental might! Join us every Wednesday for some monster trivia!
URL:https://alibi.com/event/tractor-trivia-league/2024-06-19/
LOCATION:Tractor Brewing Company (Nob Hill)\, 118 Tulane SE\, Albuquerque\, NM\, 87106\, United States
CATEGORIES:Food & Drink,Nightlife,Special Interest,Sports & Recreation
ATTACH;FMTTYPE=image/jpeg:https://alibi.com/wp-content/uploads/2023/08/325799711_577367790543481_8728432551080901921_n.jpg
END:VEVENT
BEGIN:VEVENT
DTSTART;TZID=America/Denver:20240612T190000
DTEND;TZID=America/Denver:20240612T210000
DTSTAMP:20260420T161806
CREATED:20230825T204703Z
LAST-MODIFIED:20230825T205334Z
UID:10000046-1718218800-1718226000@alibi.com
SUMMARY:Tractor Trivia League
DESCRIPTION:Your host Dan Dangerously is back at Tractor in Nob Hill as the true Trivia Daddy. He’ll be your guide in this journey that will test your mental might! Join us every Wednesday for some monster trivia!
URL:https://alibi.com/event/tractor-trivia-league/2024-06-12/
LOCATION:Tractor Brewing Company (Nob Hill)\, 118 Tulane SE\, Albuquerque\, NM\, 87106\, United States
CATEGORIES:Food & Drink,Nightlife,Special Interest,Sports & Recreation
ATTACH;FMTTYPE=image/jpeg:https://alibi.com/wp-content/uploads/2023/08/325799711_577367790543481_8728432551080901921_n.jpg
END:VEVENT
BEGIN:VEVENT
DTSTART;TZID=America/Denver:20240605T190000
DTEND;TZID=America/Denver:20240605T210000
DTSTAMP:20260420T161806
CREATED:20230825T204703Z
LAST-MODIFIED:20230825T205334Z
UID:10000045-1717614000-1717621200@alibi.com
SUMMARY:Tractor Trivia League
DESCRIPTION:Your host Dan Dangerously is back at Tractor in Nob Hill as the true Trivia Daddy. He’ll be your guide in this journey that will test your mental might! Join us every Wednesday for some monster trivia!
URL:https://alibi.com/event/tractor-trivia-league/2024-06-05/
LOCATION:Tractor Brewing Company (Nob Hill)\, 118 Tulane SE\, Albuquerque\, NM\, 87106\, United States
CATEGORIES:Food & Drink,Nightlife,Special Interest,Sports & Recreation
ATTACH;FMTTYPE=image/jpeg:https://alibi.com/wp-content/uploads/2023/08/325799711_577367790543481_8728432551080901921_n.jpg
END:VEVENT
BEGIN:VEVENT
DTSTART;TZID=America/Denver:20240529T190000
DTEND;TZID=America/Denver:20240529T210000
DTSTAMP:20260420T161806
CREATED:20230825T204703Z
LAST-MODIFIED:20230825T205334Z
UID:10000044-1717009200-1717016400@alibi.com
SUMMARY:Tractor Trivia League
DESCRIPTION:Your host Dan Dangerously is back at Tractor in Nob Hill as the true Trivia Daddy. He’ll be your guide in this journey that will test your mental might! Join us every Wednesday for some monster trivia!
URL:https://alibi.com/event/tractor-trivia-league/2024-05-29/
LOCATION:Tractor Brewing Company (Nob Hill)\, 118 Tulane SE\, Albuquerque\, NM\, 87106\, United States
CATEGORIES:Food & Drink,Nightlife,Special Interest,Sports & Recreation
ATTACH;FMTTYPE=image/jpeg:https://alibi.com/wp-content/uploads/2023/08/325799711_577367790543481_8728432551080901921_n.jpg
END:VEVENT
BEGIN:VEVENT
DTSTART;TZID=America/Denver:20240528T090000
DTEND;TZID=America/Denver:20240530T142200
DTSTAMP:20260420T161806
CREATED:20231009T151109Z
LAST-MODIFIED:20231009T151109Z
UID:10000306-1716886800-1717078920@alibi.com
SUMMARY:Cultural Sustainable Tourism (CST) - 6th Edition
DESCRIPTION:The conference focuses on sustainability in cultural tourism\, addressing heritage preservation\, environmental impact\, economic impacts\, digital integration\, social development\, green space\, health promotion\, and responsible waste management.\nhttps://bit.ly/cst2024-topics
URL:https://alibi.com/event/cultural-sustainable-tourism-cst-6th-edition/
LOCATION:OLD TOWN\, 423 SAN FELIPE ST NW SUITE B\, Albuquerque\, NM\, 87104\, United States
CATEGORIES:Travel & Tourism
ATTACH;FMTTYPE=image/jpeg:https://alibi.com/wp-content/uploads/2023/08/2-1.jpg
END:VEVENT
BEGIN:VEVENT
DTSTART;TZID=America/Denver:20240522T190000
DTEND;TZID=America/Denver:20240522T210000
DTSTAMP:20260420T161806
CREATED:20230825T204703Z
LAST-MODIFIED:20230825T205334Z
UID:10000043-1716404400-1716411600@alibi.com
SUMMARY:Tractor Trivia League
DESCRIPTION:Your host Dan Dangerously is back at Tractor in Nob Hill as the true Trivia Daddy. He’ll be your guide in this journey that will test your mental might! Join us every Wednesday for some monster trivia!
URL:https://alibi.com/event/tractor-trivia-league/2024-05-22/
LOCATION:Tractor Brewing Company (Nob Hill)\, 118 Tulane SE\, Albuquerque\, NM\, 87106\, United States
CATEGORIES:Food & Drink,Nightlife,Special Interest,Sports & Recreation
ATTACH;FMTTYPE=image/jpeg:https://alibi.com/wp-content/uploads/2023/08/325799711_577367790543481_8728432551080901921_n.jpg
END:VEVENT
BEGIN:VEVENT
DTSTART;TZID=America/Denver:20240515T190000
DTEND;TZID=America/Denver:20240515T210000
DTSTAMP:20260420T161806
CREATED:20230825T204703Z
LAST-MODIFIED:20230825T205334Z
UID:10000042-1715799600-1715806800@alibi.com
SUMMARY:Tractor Trivia League
DESCRIPTION:Your host Dan Dangerously is back at Tractor in Nob Hill as the true Trivia Daddy. He’ll be your guide in this journey that will test your mental might! Join us every Wednesday for some monster trivia!
URL:https://alibi.com/event/tractor-trivia-league/2024-05-15/
LOCATION:Tractor Brewing Company (Nob Hill)\, 118 Tulane SE\, Albuquerque\, NM\, 87106\, United States
CATEGORIES:Food & Drink,Nightlife,Special Interest,Sports & Recreation
ATTACH;FMTTYPE=image/jpeg:https://alibi.com/wp-content/uploads/2023/08/325799711_577367790543481_8728432551080901921_n.jpg
END:VEVENT
BEGIN:VEVENT
DTSTART;TZID=America/Denver:20240512T193000
DTEND;TZID=America/Denver:20240512T220000
DTSTAMP:20260420T161806
CREATED:20240119T221958Z
LAST-MODIFIED:20240119T221958Z
UID:10000419-1715542200-1715551200@alibi.com
SUMMARY:Beetlejuice The Musical
DESCRIPTION:Based on Tim Burton’s dearly beloved film\, BEETLEJUICE tells the story of Lydia Deetz\, a strange and unusual teenager whose whole life changes when she meets a recently deceased couple and a demon with a thing for stripes. Entertainment Weekly calls it “A FEAST FOR THE EYES AND THE SOUL!”
URL:https://alibi.com/event/beetlejuice-the-musical/
LOCATION:Popejoy Hall\, 203 Cornell Dr\, Albuquerque\, NM\, 87131\, United States
CATEGORIES:Arts & Culture
ATTACH;FMTTYPE=image/jpeg:https://alibi.com/wp-content/uploads/2023/08/Beetlejuice-25.jpg
END:VEVENT
BEGIN:VEVENT
DTSTART;TZID=America/Denver:20240511T140000
DTEND;TZID=America/Denver:20240511T170000
DTSTAMP:20260420T161806
CREATED:20240119T222012Z
LAST-MODIFIED:20240119T222012Z
UID:10000418-1715436000-1715446800@alibi.com
SUMMARY:Beetlejuice The Musical
DESCRIPTION:Based on Tim Burton’s dearly beloved film\, BEETLEJUICE tells the story of Lydia Deetz\, a strange and unusual teenager whose whole life changes when she meets a recently deceased couple and a demon with a thing for stripes. Entertainment Weekly calls it “A FEAST FOR THE EYES AND THE SOUL!”
URL:https://alibi.com/event/beetlejuice-the-musical-2/
LOCATION:Popejoy Hall\, 203 Cornell Dr\, Albuquerque\, NM\, 87131\, United States
CATEGORIES:Arts & Culture
ATTACH;FMTTYPE=image/jpeg:https://alibi.com/wp-content/uploads/2023/08/Beetlejuice-23.jpg
END:VEVENT
BEGIN:VEVENT
DTSTART;TZID=America/Denver:20240510T193000
DTEND;TZID=America/Denver:20240510T220000
DTSTAMP:20260420T161806
CREATED:20240119T222013Z
LAST-MODIFIED:20240119T222013Z
UID:10000417-1715369400-1715378400@alibi.com
SUMMARY:Beetlejuice The Musical
DESCRIPTION:Based on Tim Burton’s dearly beloved film\, BEETLEJUICE tells the story of Lydia Deetz\, a strange and unusual teenager whose whole life changes when she meets a recently deceased couple and a demon with a thing for stripes. Entertainment Weekly calls it “A FEAST FOR THE EYES AND THE SOUL!”
URL:https://alibi.com/event/beetlejuice-the-musical-3/
LOCATION:Popejoy Hall\, 203 Cornell Dr\, Albuquerque\, NM\, 87131\, United States
CATEGORIES:Arts & Culture
ATTACH;FMTTYPE=image/jpeg:https://alibi.com/wp-content/uploads/2023/08/Beetlejuice-22.jpg
END:VEVENT
BEGIN:VEVENT
DTSTART;TZID=America/Denver:20240509T193000
DTEND;TZID=America/Denver:20240509T220000
DTSTAMP:20260420T161806
CREATED:20240119T222014Z
LAST-MODIFIED:20240119T222014Z
UID:10000416-1715283000-1715292000@alibi.com
SUMMARY:Beetlejuice The Musical
DESCRIPTION:Based on Tim Burton’s dearly beloved film\, BEETLEJUICE tells the story of Lydia Deetz\, a strange and unusual teenager whose whole life changes when she meets a recently deceased couple and a demon with a thing for stripes. Entertainment Weekly calls it “A FEAST FOR THE EYES AND THE SOUL!”
URL:https://alibi.com/event/beetlejuice-the-musical-4/
LOCATION:Popejoy Hall\, 203 Cornell Dr\, Albuquerque\, NM\, 87131\, United States
CATEGORIES:Arts & Culture
ATTACH;FMTTYPE=image/jpeg:https://alibi.com/wp-content/uploads/2023/08/Beetlejuice-21.jpg
END:VEVENT
BEGIN:VEVENT
DTSTART;TZID=America/Denver:20240508T193000
DTEND;TZID=America/Denver:20240508T220000
DTSTAMP:20260420T161806
CREATED:20240119T222015Z
LAST-MODIFIED:20240119T222015Z
UID:10000415-1715196600-1715205600@alibi.com
SUMMARY:Beetlejuice The Musical
DESCRIPTION:Based on Tim Burton’s dearly beloved film\, BEETLEJUICE tells the story of Lydia Deetz\, a strange and unusual teenager whose whole life changes when she meets a recently deceased couple and a demon with a thing for stripes. Entertainment Weekly calls it “A FEAST FOR THE EYES AND THE SOUL!”
URL:https://alibi.com/event/beetlejuice-the-musical-5/
LOCATION:Popejoy Hall\, 203 Cornell Dr\, Albuquerque\, NM\, 87131\, United States
CATEGORIES:Arts & Culture
ATTACH;FMTTYPE=image/jpeg:https://alibi.com/wp-content/uploads/2023/08/Beetlejuice-2.jpg
END:VEVENT
BEGIN:VEVENT
DTSTART;TZID=America/Denver:20240508T190000
DTEND;TZID=America/Denver:20240508T210000
DTSTAMP:20260420T161806
CREATED:20230825T204703Z
LAST-MODIFIED:20230825T205334Z
UID:10000041-1715194800-1715202000@alibi.com
SUMMARY:Tractor Trivia League
DESCRIPTION:Your host Dan Dangerously is back at Tractor in Nob Hill as the true Trivia Daddy. He’ll be your guide in this journey that will test your mental might! Join us every Wednesday for some monster trivia!
URL:https://alibi.com/event/tractor-trivia-league/2024-05-08/
LOCATION:Tractor Brewing Company (Nob Hill)\, 118 Tulane SE\, Albuquerque\, NM\, 87106\, United States
CATEGORIES:Food & Drink,Nightlife,Special Interest,Sports & Recreation
ATTACH;FMTTYPE=image/jpeg:https://alibi.com/wp-content/uploads/2023/08/325799711_577367790543481_8728432551080901921_n.jpg
END:VEVENT
BEGIN:VEVENT
DTSTART;TZID=America/Denver:20240507T193000
DTEND;TZID=America/Denver:20240507T213000
DTSTAMP:20260420T161806
CREATED:20240213T202437Z
LAST-MODIFIED:20240213T202437Z
UID:10000440-1715110200-1715117400@alibi.com
SUMMARY:BEETLEJUICE
DESCRIPTION:Based on Tim Burton’s dearly beloved film\, BEETLEJUICE tells the story of Lydia Deetz\, a strange and unusual teenager whose whole life changes when she meets a recently deceased couple and a demon with a thing for stripes. Entertainment Weekly calls it “A FEAST FOR THE EYES AND THE SOUL!”
URL:https://alibi.com/event/beetlejuice/
LOCATION:Popejoy Hall\, 203 Cornell Dr\, Albuquerque\, NM\, 87131\, United States
CATEGORIES:Arts & Culture
ATTACH;FMTTYPE=image/jpeg:https://alibi.com/wp-content/uploads/2023/08/Beetlejuice-3.jpg
END:VEVENT
BEGIN:VEVENT
DTSTART;TZID=America/Denver:20240501T190000
DTEND;TZID=America/Denver:20240501T210000
DTSTAMP:20260420T161806
CREATED:20230825T204703Z
LAST-MODIFIED:20230825T205334Z
UID:10000040-1714590000-1714597200@alibi.com
SUMMARY:Tractor Trivia League
DESCRIPTION:Your host Dan Dangerously is back at Tractor in Nob Hill as the true Trivia Daddy. He’ll be your guide in this journey that will test your mental might! Join us every Wednesday for some monster trivia!
URL:https://alibi.com/event/tractor-trivia-league/2024-05-01/
LOCATION:Tractor Brewing Company (Nob Hill)\, 118 Tulane SE\, Albuquerque\, NM\, 87106\, United States
CATEGORIES:Food & Drink,Nightlife,Special Interest,Sports & Recreation
ATTACH;FMTTYPE=image/jpeg:https://alibi.com/wp-content/uploads/2023/08/325799711_577367790543481_8728432551080901921_n.jpg
END:VEVENT
BEGIN:VEVENT
DTSTART;TZID=America/Denver:20240424T190000
DTEND;TZID=America/Denver:20240424T210000
DTSTAMP:20260420T161806
CREATED:20230825T204703Z
LAST-MODIFIED:20230825T205334Z
UID:10000039-1713985200-1713992400@alibi.com
SUMMARY:Tractor Trivia League
DESCRIPTION:Your host Dan Dangerously is back at Tractor in Nob Hill as the true Trivia Daddy. He’ll be your guide in this journey that will test your mental might! Join us every Wednesday for some monster trivia!
URL:https://alibi.com/event/tractor-trivia-league/2024-04-24/
LOCATION:Tractor Brewing Company (Nob Hill)\, 118 Tulane SE\, Albuquerque\, NM\, 87106\, United States
CATEGORIES:Food & Drink,Nightlife,Special Interest,Sports & Recreation
ATTACH;FMTTYPE=image/jpeg:https://alibi.com/wp-content/uploads/2023/08/325799711_577367790543481_8728432551080901921_n.jpg
END:VEVENT
BEGIN:VEVENT
DTSTART;TZID=America/Denver:20240417T190000
DTEND;TZID=America/Denver:20240417T230000
DTSTAMP:20260420T161806
CREATED:20240316T160458Z
LAST-MODIFIED:20240316T160458Z
UID:10000467-1713380400-1713394800@alibi.com
SUMMARY:Mortal Wound  with Dysphtoic and Distorted Evil
DESCRIPTION:A relentless program of uncompromising blackened death metal. \nMORTAL WOUND\nLos Angeles\, CA\nhttps://mortalwound.bandcamp.com/album/forms-of-unreasoning-fear \nwith: \nDYSPHOTIC\nSanta Fe\, NM\nhttps://dysphotic.bandcamp.com/album/the-eternal-throne \nDISTORTED EVIL\nSanta Fe\, NM\nhttps://distortedevil.bandcamp.com/ \n21+\n7pm\n$12\nApril 17\, 2024
URL:https://alibi.com/event/mortal-wound-with-dysphtoic-and-distorted-evil/
LOCATION:Sister\, 407 Central Ave\, Albuquerque\, NM\, 87012\, United States
CATEGORIES:Music
ATTACH;FMTTYPE=image/jpeg:https://alibi.com/wp-content/uploads/2023/08/Sister_4-17-24_1080x1350IG.jpg
END:VEVENT
BEGIN:VEVENT
DTSTART;TZID=America/Denver:20240417T190000
DTEND;TZID=America/Denver:20240417T210000
DTSTAMP:20260420T161806
CREATED:20230825T204703Z
LAST-MODIFIED:20230825T205334Z
UID:10000038-1713380400-1713387600@alibi.com
SUMMARY:Tractor Trivia League
DESCRIPTION:Your host Dan Dangerously is back at Tractor in Nob Hill as the true Trivia Daddy. He’ll be your guide in this journey that will test your mental might! Join us every Wednesday for some monster trivia!
URL:https://alibi.com/event/tractor-trivia-league/2024-04-17/
LOCATION:Tractor Brewing Company (Nob Hill)\, 118 Tulane SE\, Albuquerque\, NM\, 87106\, United States
CATEGORIES:Food & Drink,Nightlife,Special Interest,Sports & Recreation
ATTACH;FMTTYPE=image/jpeg:https://alibi.com/wp-content/uploads/2023/08/325799711_577367790543481_8728432551080901921_n.jpg
END:VEVENT
BEGIN:VEVENT
DTSTART;TZID=America/Denver:20240414T150000
DTEND;TZID=America/Denver:20240414T170000
DTSTAMP:20260420T161806
CREATED:20240204T013115Z
LAST-MODIFIED:20240204T013115Z
UID:10000427-1713106800-1713114000@alibi.com
SUMMARY:Scrap Arts Music
DESCRIPTION:Scrap Arts Music performs an all-acoustic percussion show\, blending science fiction-style multi-media and 145 instruments fashioned from scrap and salvage. Taking inspiration from the classic film “Metropolis\,” five athletic musicians perform in a one-of-a-kind experience.
URL:https://alibi.com/event/scrap-arts-music/
LOCATION:Popejoy Hall\, 203 Cornell Dr\, Albuquerque\, NM\, 87131\, United States
CATEGORIES:Music
ATTACH;FMTTYPE=image/jpeg:https://alibi.com/wp-content/uploads/2023/08/scrap-arts-2018-140-1.jpg
END:VEVENT
BEGIN:VEVENT
DTSTART;TZID=America/Denver:20240410T190000
DTEND;TZID=America/Denver:20240410T210000
DTSTAMP:20260420T161806
CREATED:20230825T204703Z
LAST-MODIFIED:20230825T205334Z
UID:10000037-1712775600-1712782800@alibi.com
SUMMARY:Tractor Trivia League
DESCRIPTION:Your host Dan Dangerously is back at Tractor in Nob Hill as the true Trivia Daddy. He’ll be your guide in this journey that will test your mental might! Join us every Wednesday for some monster trivia!
URL:https://alibi.com/event/tractor-trivia-league/2024-04-10/
LOCATION:Tractor Brewing Company (Nob Hill)\, 118 Tulane SE\, Albuquerque\, NM\, 87106\, United States
CATEGORIES:Food & Drink,Nightlife,Special Interest,Sports & Recreation
ATTACH;FMTTYPE=image/jpeg:https://alibi.com/wp-content/uploads/2023/08/325799711_577367790543481_8728432551080901921_n.jpg
END:VEVENT
END:VCALENDAR