BEGIN:VCALENDAR
VERSION:2.0
PRODID:-//Weekly Alibi - ECPv6.1.3//NONSGML v1.0//EN
CALSCALE:GREGORIAN
METHOD:PUBLISH
X-ORIGINAL-URL:https://alibi.com
X-WR-CALDESC:Events for Weekly Alibi
REFRESH-INTERVAL;VALUE=DURATION:PT1H
X-Robots-Tag:noindex
X-PUBLISHED-TTL:PT1H
BEGIN:VTIMEZONE
TZID:America/Denver
BEGIN:DAYLIGHT
TZOFFSETFROM:-0700
TZOFFSETTO:-0600
TZNAME:MDT
DTSTART:20240310T090000
END:DAYLIGHT
BEGIN:STANDARD
TZOFFSETFROM:-0600
TZOFFSETTO:-0700
TZNAME:MST
DTSTART:20241103T080000
END:STANDARD
END:VTIMEZONE
BEGIN:VEVENT
DTSTART;TZID=America/Denver:20240403T190000
DTEND;TZID=America/Denver:20240403T210000
DTSTAMP:20260421T081255
CREATED:20230825T204703Z
LAST-MODIFIED:20230825T205334Z
UID:10000036-1712170800-1712178000@alibi.com
SUMMARY:Tractor Trivia League
DESCRIPTION:Your host Dan Dangerously is back at Tractor in Nob Hill as the true Trivia Daddy. He’ll be your guide in this journey that will test your mental might! Join us every Wednesday for some monster trivia!
URL:https://alibi.com/event/tractor-trivia-league/2024-04-03/
LOCATION:Tractor Brewing Company (Nob Hill)\, 118 Tulane SE\, Albuquerque\, NM\, 87106\, United States
CATEGORIES:Food & Drink,Nightlife,Special Interest,Sports & Recreation
ATTACH;FMTTYPE=image/jpeg:https://alibi.com/wp-content/uploads/2023/08/325799711_577367790543481_8728432551080901921_n.jpg
END:VEVENT
BEGIN:VEVENT
DTSTART;TZID=America/Denver:20240407T150000
DTEND;TZID=America/Denver:20240407T173000
DTSTAMP:20260421T081255
CREATED:20231110T151700Z
LAST-MODIFIED:20231110T151700Z
UID:10000362-1712502000-1712511000@alibi.com
SUMMARY:Forbidden Broadway
DESCRIPTION:Forbidden Broadway’s fall-down funny\, satirical roast of over 30 Broadway hits features outrageous costumes\, silly spoofs of the songs you know by heart\, and madcap impressions by a stellar cast. The Tony Award-winning troupe provides non-stop laughs for musical theatre fans\, young and old.
URL:https://alibi.com/event/forbidden-broadway/
LOCATION:Popejoy Hall\, 203 Cornell Dr\, Albuquerque\, NM\, 87131\, United States
CATEGORIES:Arts & Culture
ATTACH;FMTTYPE=image/jpeg:https://alibi.com/wp-content/uploads/2023/08/FBNextGen-Moulin-Rouge-scaled.jpg
END:VEVENT
END:VCALENDAR