BEGIN:VCALENDAR
VERSION:2.0
PRODID:-//Weekly Alibi - ECPv6.1.3//NONSGML v1.0//EN
CALSCALE:GREGORIAN
METHOD:PUBLISH
X-WR-CALNAME:Weekly Alibi
X-ORIGINAL-URL:https://alibi.com
X-WR-CALDESC:Events for Weekly Alibi
REFRESH-INTERVAL;VALUE=DURATION:PT1H
X-Robots-Tag:noindex
X-PUBLISHED-TTL:PT1H
BEGIN:VTIMEZONE
TZID:America/Denver
BEGIN:DAYLIGHT
TZOFFSETFROM:-0700
TZOFFSETTO:-0600
TZNAME:MDT
DTSTART:20240310T090000
END:DAYLIGHT
BEGIN:STANDARD
TZOFFSETFROM:-0600
TZOFFSETTO:-0700
TZNAME:MST
DTSTART:20241103T080000
END:STANDARD
END:VTIMEZONE
BEGIN:VEVENT
DTSTART;TZID=America/Denver:20240321T170000
DTEND;TZID=America/Denver:20240321T180000
DTSTAMP:20260419T141427
CREATED:20240213T202442Z
LAST-MODIFIED:20240213T202442Z
UID:10000433-1711040400-1711044000@alibi.com
SUMMARY:Frederick Hammersley Visiting Artist Talk with Molly Zuckerman-Hartung
DESCRIPTION:The UNM Department of Art presents a FREE Artist Talk at the Albuquerque Museum of this year’s Frederick Hammersley visiting artist\, Molly Zuckerman-Hartung on Thursday\, March 21\, at 5pm. An open studio event will be Thursday\, April 18\, 3-6 pm at the Art Annex building on UNM’s central campus. The Hammersely Visiting Artist program invites prominent contemporary painters from around the world to come live and work in Albuquerque for three months each Spring semester. Through this program\, visiting artists are provided with accommodations at The Hammersley House\, a studio in proximity to the UNM Department of Art graduate students. The visiting artists are invited to create work\, conduct studio visits with the Fine Arts graduate candidates\, hold workshops\, deliver a public lecture\, and host an Open Studio event. Funding for this program is provided by the Frederick Hammersley Visiting Artist Program Fund at the Albuquerque Community Foundation.   https://art.unm.edu/frederick-hammersley/
URL:https://alibi.com/event/frederick-hammersley-visiting-artist-talk-with-molly-zuckerman-hartung/
LOCATION:Albuquerque Museum\, 2000 Mountain Road NW\, Albuquerque\, NM\, 87104\, United States
CATEGORIES:Arts & Culture
ATTACH;FMTTYPE=image/jpeg:https://alibi.com/wp-content/uploads/2023/08/MZH_2024-scaled.jpeg
END:VEVENT
END:VCALENDAR