BEGIN:VCALENDAR
VERSION:2.0
PRODID:-//Weekly Alibi - ECPv6.1.3//NONSGML v1.0//EN
CALSCALE:GREGORIAN
METHOD:PUBLISH
X-ORIGINAL-URL:https://alibi.com
X-WR-CALDESC:Events for Weekly Alibi
REFRESH-INTERVAL;VALUE=DURATION:PT1H
X-Robots-Tag:noindex
X-PUBLISHED-TTL:PT1H
BEGIN:VTIMEZONE
TZID:America/Denver
BEGIN:DAYLIGHT
TZOFFSETFROM:-0700
TZOFFSETTO:-0600
TZNAME:MDT
DTSTART:20230312T090000
END:DAYLIGHT
BEGIN:STANDARD
TZOFFSETFROM:-0600
TZOFFSETTO:-0700
TZNAME:MST
DTSTART:20231105T080000
END:STANDARD
END:VTIMEZONE
BEGIN:VEVENT
DTSTART;VALUE=DATE:20231118
DTEND;VALUE=DATE:20231119
DTSTAMP:20260419T085847
CREATED:20231106T165502Z
LAST-MODIFIED:20231106T165502Z
UID:10000353-1700265600-1700351999@alibi.com
SUMMARY:Cookies Grand Opening
DESCRIPTION:Cookies\nNew Mexico\nGrand Opening Event\nNovember 18\, 2023
URL:https://alibi.com/event/cookies-grand-opening/
LOCATION:Cookies\, 1340 Broadway Blvd NE\, Albuquerque\, NM 87102\, USA\, Albuquerque\, NM\, 87120-1073\, United States
CATEGORIES:Community & Civic
ATTACH;FMTTYPE=image/png:https://alibi.com/wp-content/uploads/2023/08/NEW-MEXI.png
END:VEVENT
END:VCALENDAR