BEGIN:VCALENDAR
VERSION:2.0
PRODID:-//Weekly Alibi - ECPv6.1.3//NONSGML v1.0//EN
CALSCALE:GREGORIAN
METHOD:PUBLISH
X-WR-CALNAME:Weekly Alibi
X-ORIGINAL-URL:https://alibi.com
X-WR-CALDESC:Events for Weekly Alibi
REFRESH-INTERVAL;VALUE=DURATION:PT1H
X-Robots-Tag:noindex
X-PUBLISHED-TTL:PT1H
BEGIN:VTIMEZONE
TZID:America/Denver
BEGIN:DAYLIGHT
TZOFFSETFROM:-0700
TZOFFSETTO:-0600
TZNAME:MDT
DTSTART:20230312T090000
END:DAYLIGHT
BEGIN:STANDARD
TZOFFSETFROM:-0600
TZOFFSETTO:-0700
TZNAME:MST
DTSTART:20231105T080000
END:STANDARD
END:VTIMEZONE
BEGIN:VEVENT
DTSTART;TZID=America/Denver:20231214T193000
DTEND;TZID=America/Denver:20231214T223000
DTSTAMP:20260420T073802
CREATED:20231211T211207Z
LAST-MODIFIED:20231211T211207Z
UID:10000385-1702582200-1702593000@alibi.com
SUMMARY:Bobcat Live at Echoes Brewery\, Albuquerque NM
DESCRIPTION:Hi Alibi crew\, I found you on the website and I think my one man band would be a great fit in your publication. I hope you get the chance to check it out. \nAppearing live at Echoes Brewing\, Albuquerque NM on Thu Dec 14 7:30pm to 10:30pm FREE SHOW\, TIPS APPRECIATED \nFOR IMMEDIATE RELEASE: \nBOBCAT ANNOUNCES 18 MONTH TOUR PROMOTING DUAL ALBUM RELEASE \nBobcat is a one-man band from Long Island NY playing a blend of power pop\, garage rock and rockabilly. He was a founding member of psychobilly legends The Arkhams and now performs live as a one man band with drums at foot\, percussion at heel\, baritone guitar in hands\, and a voice you’ll remember. \n2022 was a creative season for Bobcat that saw the release of not one but two full-length albums. While more is already on the way\, he recognized that new songs were no good unless shared; so\, the Cat is embarking on an adventurous 18 month tour scheduled to begin in March 2023 and go into the next year. \nThis new release is an album with 15 original songs on it plus bonus tracks of cover songs from all different genres of music. Like the two preceding albums\, there is a common theme in the songwriting about events in everyday life\, feelings we may have and can relate to\, sing along-able anthems and heartfelt ballads of the trials and tribulations of life in the modern era. \nBobcat is a seasoned veteran of the rockabilly\, psychobilly and punk rock scenes in NYC for over 2 decades. Played in many bands and toured relentlessly for most of that time. After a brief hiatus to start a business\, is back in action and ready to stand tall and deliver! Always a fan of melodic yet driving music from years gone by\, there is a certain sense of nostalgia in the music he creates. With a clear nod to the likes of Elvis Costello\, The Beatles\, Big Star\, Buddy Holly and early Motown and Stax records\, Bobcat creates something fresh with this blend of music unlike anything else going on today. \n“so much music from so little accompaniment” – Divide and Conquer Music Blog \n“one man sounds like a full ensemble complete with bass and piano” – fan at shows \n“nothing gets me moving like hearing this wild one man band work his magic and talent” -another fan at shows \nPlease contact info@bobcatmusic.li or bobcatofficial1@gmail.com for interviews\, guest list and further info \nwww.bobcatmusic.li \nhttps://youtube.com/c/BobcatMusicOneManBand \nwww.facebook.com/bobcatonemanband \nwww.instagram.com/bobcatonemanband \n \nhttps://bobcat522.bandcamp.com/ \n###
URL:https://alibi.com/event/bobcat-live-at-echoes-brewery-albuquerque-nm/
LOCATION:Echoes Brewery Albuquerque\, 313 Gold Ave SW\, Albuquerque\, NM\, 87102\, United States
CATEGORIES:Music
ATTACH;FMTTYPE=image/png:https://alibi.com/wp-content/uploads/2023/08/20231206_113153_0000.png
END:VEVENT
END:VCALENDAR