BEGIN:VCALENDAR
VERSION:2.0
PRODID:-//Weekly Alibi - ECPv6.1.3//NONSGML v1.0//EN
CALSCALE:GREGORIAN
METHOD:PUBLISH
X-ORIGINAL-URL:https://alibi.com
X-WR-CALDESC:Events for Weekly Alibi
REFRESH-INTERVAL;VALUE=DURATION:PT1H
X-Robots-Tag:noindex
X-PUBLISHED-TTL:PT1H
BEGIN:VTIMEZONE
TZID:America/Denver
BEGIN:DAYLIGHT
TZOFFSETFROM:-0700
TZOFFSETTO:-0600
TZNAME:MDT
DTSTART:20230312T090000
END:DAYLIGHT
BEGIN:STANDARD
TZOFFSETFROM:-0600
TZOFFSETTO:-0700
TZNAME:MST
DTSTART:20231105T080000
END:STANDARD
BEGIN:DAYLIGHT
TZOFFSETFROM:-0700
TZOFFSETTO:-0600
TZNAME:MDT
DTSTART:20240310T090000
END:DAYLIGHT
BEGIN:STANDARD
TZOFFSETFROM:-0600
TZOFFSETTO:-0700
TZNAME:MST
DTSTART:20241103T080000
END:STANDARD
END:VTIMEZONE
BEGIN:VEVENT
DTSTART;TZID=America/Denver:20231208T193000
DTEND;TZID=America/Denver:20231208T220000
DTSTAMP:20260419T120800
CREATED:20231106T163758Z
LAST-MODIFIED:20231106T163758Z
UID:10000342-1702063800-1702072800@alibi.com
SUMMARY:NM Philharmonic: Handel’s Messiah!
DESCRIPTION:Bradley Ellingboe conductor\nNew Mexico Philharmonic\nCoro Lux Chamber Chorus \nCelebrate the holiday season with the world’s most beloved sacred symphonic work: Handel’s Messiah. An intimate performance by the New Mexico Philharmonic—conducted by Bradley Ellingboe\, with the extraordinary Coro Lux. Experience a transcendent tour de force—Handel’s masterwork the way it was meant to be!\n3 concert dates – check out our website for information!
URL:https://alibi.com/event/nm-philharmonic-handels-messiah/
LOCATION:First United Methodist Church\, 315 Coal Ave SW\, Albuquerque\, NM\, 87102\, United States
CATEGORIES:Music
ATTACH;FMTTYPE=image/jpeg:https://alibi.com/wp-content/uploads/2023/08/2023-nmphil-messiah-12-8.jpg
END:VEVENT
BEGIN:VEVENT
DTSTART;TZID=America/Denver:20240315T104500
DTEND;TZID=America/Denver:20240315T120000
DTSTAMP:20260419T120800
CREATED:20240213T202444Z
LAST-MODIFIED:20240213T202444Z
UID:10000431-1710499500-1710504000@alibi.com
SUMMARY:NM Philharmonic:  A Spring Thaw
DESCRIPTION:A Spring Thaw\nFriday\, March 15\, 2024\, 10:45 a.m. \nMichelle Merrill conductor \nWagner Siegfried Idyll\nSchumann Symphony No. 1\, “Spring” \nWhat better way to celebrate the hint of spring in the air than with an NMPhil Coffee Concert! Enjoy this almost-spring morning of music with the gentle beauty of Wagner’s Siegfried Idyll and Schumann’s First Symphony\, a work of bright brass\, a driving scherzo\, and more. The “Spring” Symphony premiered in 1841 with Felix Mendelssohn conducting and announced Schumann’s spot-on Romantic sensibilities to the world.
URL:https://alibi.com/event/nm-philharmonic-a-spring-thaw/
LOCATION:First United Methodist Church\, 315 Coal Ave SW\, Albuquerque\, NM\, 87102\, United States
CATEGORIES:Music
ATTACH;FMTTYPE=image/jpeg:https://alibi.com/wp-content/uploads/2023/08/03-15-2024-nmphil-cc-hero3-1536x1536-1.jpg
END:VEVENT
END:VCALENDAR