BEGIN:VCALENDAR
VERSION:2.0
PRODID:-//Weekly Alibi - ECPv6.1.3//NONSGML v1.0//EN
CALSCALE:GREGORIAN
METHOD:PUBLISH
X-WR-CALNAME:Weekly Alibi
X-ORIGINAL-URL:https://alibi.com
X-WR-CALDESC:Events for Weekly Alibi
REFRESH-INTERVAL;VALUE=DURATION:PT1H
X-Robots-Tag:noindex
X-PUBLISHED-TTL:PT1H
BEGIN:VTIMEZONE
TZID:America/Denver
BEGIN:DAYLIGHT
TZOFFSETFROM:-0700
TZOFFSETTO:-0600
TZNAME:MDT
DTSTART:20240310T090000
END:DAYLIGHT
BEGIN:STANDARD
TZOFFSETFROM:-0600
TZOFFSETTO:-0700
TZNAME:MST
DTSTART:20241103T080000
END:STANDARD
END:VTIMEZONE
BEGIN:VEVENT
DTSTART;TZID=America/Denver:20240207T150000
DTEND;TZID=America/Denver:20240211T100000
DTSTAMP:20260419T122634
CREATED:20231216T132311Z
LAST-MODIFIED:20231216T132311Z
UID:10000388-1707318000-1707645600@alibi.com
SUMMARY:HOLD ME TIGHT AT GHOST RANCH: 5 DAY COUPLES INTENSIVE WORKSHOP WITH ELENE L. & MICHAEL D. JOHAS TEENER
DESCRIPTION:This workshop if for couples who want to understand their relationship\, increase loving engagement\, strengthen their bond and learn successful relationship strategies. Scientific research and proven success tells us that life challenges are manageable when we feel connected to and supported by our partners. However\, if we feel disconnected and unsupported by our partner\, stress becomes unbearable and we experience loneliness\, unhappiness\, illness and distress. \nWe will give you tools to develop a strong and safe bond and address the difficulties in your relationship. Deepening connection with your partners – beneficial at any age and no matter how long you have been together. You can renew energy and develop the capacity for emotional and health benefits that come with a loving\, deep connection. You can forgive old injuries and repair ruptures in your relationship. The “Hold Me Tight” workshop is based on Emotionally Focussed Therapy which has a documented success of 72-80% for couples after a 5 year follow up.
URL:https://alibi.com/event/hold-me-tight-at-ghost-ranch-5-day-couples-intensive-workshop-with-elene-l-michael-d-johas-teener/
LOCATION:Ghost Ranch Education and Retreat Center\, 280 Private Drive 1708\, Abiquiu\, NM\, 87510\, United States
CATEGORIES:Family & Kids
ATTACH;FMTTYPE=image/jpeg:https://alibi.com/wp-content/uploads/2023/08/02_February_NancyOMalley-1.jpg
END:VEVENT
END:VCALENDAR