BEGIN:VCALENDAR
VERSION:2.0
PRODID:-//Weekly Alibi - ECPv6.1.3//NONSGML v1.0//EN
CALSCALE:GREGORIAN
METHOD:PUBLISH
X-ORIGINAL-URL:https://alibi.com
X-WR-CALDESC:Events for Weekly Alibi
REFRESH-INTERVAL;VALUE=DURATION:PT1H
X-Robots-Tag:noindex
X-PUBLISHED-TTL:PT1H
BEGIN:VTIMEZONE
TZID:America/Denver
BEGIN:DAYLIGHT
TZOFFSETFROM:-0700
TZOFFSETTO:-0600
TZNAME:MDT
DTSTART:20230312T090000
END:DAYLIGHT
BEGIN:STANDARD
TZOFFSETFROM:-0600
TZOFFSETTO:-0700
TZNAME:MST
DTSTART:20231105T080000
END:STANDARD
END:VTIMEZONE
BEGIN:VEVENT
DTSTART;TZID=America/Denver:20231021T130000
DTEND;TZID=America/Denver:20231022T130000
DTSTAMP:20260419T122918
CREATED:20231106T164936Z
LAST-MODIFIED:20231106T164936Z
UID:10000322-1697893200-1697979600@alibi.com
SUMMARY:History\, Genealogy\, Genetics:  Unraveling the Past and Present - Fall Conference  2023
DESCRIPTION:How do History\, Genealogy and Genetics lead to unraveling Jewish family histories today and in the past?\nFor More Info.: https://nmjhs.org/conference-program/\nCome learn more about the captivating history of the Jewish People in New Mexico at the annual New Mexico Historical Society Fall Conference at the Jewish Community Center of Greater Albuquerque (or attend virtually via Zoom):\n• Jewish New Mexican History: Learn about the early Jewish settlers in New Mexico and their impact on the state’s culture and society.\n• Genealogy Workshop: Discover how to trace your family’s roots and uncover your own Jewish heritage.\n• Genetics – Past and Present: Explore how advancements in genetics have revolutionized our understanding of history and identity.\nThis conference is perfect for anyone with an interest in Jewish history\, genealogy\, or genetics\, or New Mexican History in general. Whether you’re a seasoned researcher\, or just beginning to explore Jewish history\, or interested in your family’s roots in New Mexican History – this conference\nRegister for in-person attendance\, to be held at The Jewish Community Center\, Albuquerque: https://nmjhs.org/product-category/conference/\nRegister for virtual (online) attendance via Zoom: https://nmjhs.org/product-category/vitrual-conference/ See less
URL:https://alibi.com/event/history-genealogy-genetics-unraveling-the-past-and-present-fall-conference-2023/
LOCATION:Jewish Community Center of Greater Albuquerque\, 5520 Wyoming Blvd NE\, Albuquerque\, NM\, Albuquerque\, NM\, 87109\, United States
CATEGORIES:Education & Workshops
ATTACH;FMTTYPE=image/jpeg:https://alibi.com/wp-content/uploads/2023/08/Jewish-Cowboys-Facebook-.jpg
END:VEVENT
END:VCALENDAR