BEGIN:VCALENDAR
VERSION:2.0
PRODID:-//Weekly Alibi - ECPv6.1.3//NONSGML v1.0//EN
CALSCALE:GREGORIAN
METHOD:PUBLISH
X-WR-CALNAME:Weekly Alibi
X-ORIGINAL-URL:https://alibi.com
X-WR-CALDESC:Events for Weekly Alibi
REFRESH-INTERVAL;VALUE=DURATION:PT1H
X-Robots-Tag:noindex
X-PUBLISHED-TTL:PT1H
BEGIN:VTIMEZONE
TZID:America/Denver
BEGIN:DAYLIGHT
TZOFFSETFROM:-0700
TZOFFSETTO:-0600
TZNAME:MDT
DTSTART:20230312T090000
END:DAYLIGHT
BEGIN:STANDARD
TZOFFSETFROM:-0600
TZOFFSETTO:-0700
TZNAME:MST
DTSTART:20231105T080000
END:STANDARD
END:VTIMEZONE
BEGIN:VEVENT
DTSTART;TZID=America/Denver:20230929T200100
DTEND;TZID=America/Denver:20230929T220100
DTSTAMP:20260419T092323
CREATED:20230916T045555Z
LAST-MODIFIED:20230916T045555Z
UID:10000287-1696017660-1696024860@alibi.com
SUMMARY:EQNX Jazz @ Lizard Tail Brewing
DESCRIPTION:Come check out the EQNX Jazz Quartet as we debut at Lizard Tail Brewing in Nob Hill!! \nMichael Metz – Trumpet/Flugelhorn\nKarl Richardson – Keys/Guitar/Vocals\nIan Davis – Bass\nArtemisia O’bi – Drums\nHelp support live\, local music!!
URL:https://alibi.com/event/eqnx-jazz-lizard-tail-brewing/
LOCATION:Lizard Tail Brewing (Nob Hill)\, 3417 Central Ave. NE Suite C\, Albuquerque\, NM\, 87107\, United States
CATEGORIES:Music
ATTACH;FMTTYPE=image/png:https://alibi.com/wp-content/uploads/2023/08/Lizard-Tail-Brewing-9-29.png
END:VEVENT
END:VCALENDAR