BEGIN:VCALENDAR
VERSION:2.0
PRODID:-//Weekly Alibi - ECPv6.1.3//NONSGML v1.0//EN
CALSCALE:GREGORIAN
METHOD:PUBLISH
X-WR-CALNAME:Weekly Alibi
X-ORIGINAL-URL:https://alibi.com
X-WR-CALDESC:Events for Weekly Alibi
REFRESH-INTERVAL;VALUE=DURATION:PT1H
X-Robots-Tag:noindex
X-PUBLISHED-TTL:PT1H
BEGIN:VTIMEZONE
TZID:America/Denver
BEGIN:DAYLIGHT
TZOFFSETFROM:-0700
TZOFFSETTO:-0600
TZNAME:MDT
DTSTART:20240310T090000
END:DAYLIGHT
BEGIN:STANDARD
TZOFFSETFROM:-0600
TZOFFSETTO:-0700
TZNAME:MST
DTSTART:20241103T080000
END:STANDARD
END:VTIMEZONE
BEGIN:VEVENT
DTSTART;TZID=America/Denver:20240309T170000
DTEND;TZID=America/Denver:20240309T210000
DTSTAMP:20260419T111030
CREATED:20240213T202441Z
LAST-MODIFIED:20240213T202441Z
UID:10000434-1710003600-1710018000@alibi.com
SUMMARY:CELEBRATED ROCK MUSICIAN TO OPEN PHOTOGRAPHY EXHIBIT IN NEW MEXICO
DESCRIPTION:February 06\, 2024\, Truth or Consequences\, New Mexico  \nFor immediate release:  \nCELEBRATED ROCK MUSICIAN TO OPEN PHOTOGRAPHY EXHIBIT IN NEW MEXICO\nNew York City’s Anne Husick will attend T or C gallery opening of her original works\nCareer rock ’n’ roll musician Anne Husick is no stranger to traveling. As a long-time member of the influential group Band of Susans\, and essential female rocker Ronnie Spector’s touring band\, Husick has performed across the United States and Europe. She has also worked with Wilson Pickett\, Dead Can Dance’s Peter Ulrich\, appeared on “Late Night with David Letterman\,” “Late Night with Jimmy Fallon\,” and shared the stage with Bruce Springsteen\, Joey Ramone\, and many others. \nHusick’s career was heavily impacted by the COVID pandemic. Temporarily relocating to a family friend’s cabin in Upstate New York\, Husick spent the pandemic documenting the colorful\, fascinating (and considerably quieter) lives of bees\, wasps\, wide-eyed spiders\, inquisitive snails\, and other residents of the nearby woods and lakes. The result is “From the Green Room to the Green World\,” a collection of striking and highly detailed original photographs of the hidden microcosm of rural New York. \nThe opening reception takes place during Truth or Consequences’ popular Art Hop on Saturday\, March 9\, from 5 pm to 9 pm. Husick is traveling from New York for the event and isn’t going to miss the chance to mix in some live music with her fine art. She’ll be performing three short sets with local musicians at the gallery that night. \n“It’s not just these tiny creatures that enthrall\,” says Lunáticus Gálerie director Constantin Pârvulescu\, “but how they are seen in their environments\, and how their lives continued unaware of the pandemic raging around them in the world of humans. We’re thrilled to have a musician and artist of Anne’s stature exhibiting here in T or C. Her work is a refreshing addition to southern New Mexico’s flourishing contemporary arts scene.” \nAs a teenager\, Husick attended New York’s distinguished High School of Music and Art. She still makes her home in New York City and writes\, records\, and performs regularly with her own band\, Exit 99\, and other noted New York acts. \nArtist’s reception: March 9\, 2024\, from 5 to 9 pm at Lunáticus Galerie\, 424 North Broadway\, Truth or Consequences\, NM 87901.\nAdmission is free.\nFor further information or interview requests\, contact Constantin Pârvulescu: (206) 669-0168 or sidereal2331@gmail.com
URL:https://alibi.com/event/celebrated-rock-musician-to-open-photography-exhibit-in-new-mexico/
LOCATION:Lunáticus Galerie\, 424 N Broadway\, Truth or Consequences\, NM\, 87901\, United States
CATEGORIES:Arts & Culture
ATTACH;FMTTYPE=image/jpeg:https://alibi.com/wp-content/uploads/2023/08/Anne-Husick-Poster.jpg
END:VEVENT
END:VCALENDAR