BEGIN:VCALENDAR
VERSION:2.0
PRODID:-//Weekly Alibi - ECPv6.1.3//NONSGML v1.0//EN
CALSCALE:GREGORIAN
METHOD:PUBLISH
X-WR-CALNAME:Weekly Alibi
X-ORIGINAL-URL:https://alibi.com
X-WR-CALDESC:Events for Weekly Alibi
REFRESH-INTERVAL;VALUE=DURATION:PT1H
X-Robots-Tag:noindex
X-PUBLISHED-TTL:PT1H
BEGIN:VTIMEZONE
TZID:America/Denver
BEGIN:DAYLIGHT
TZOFFSETFROM:-0700
TZOFFSETTO:-0600
TZNAME:MDT
DTSTART:20230312T090000
END:DAYLIGHT
BEGIN:STANDARD
TZOFFSETFROM:-0600
TZOFFSETTO:-0700
TZNAME:MST
DTSTART:20231105T080000
END:STANDARD
END:VTIMEZONE
BEGIN:VEVENT
DTSTART;TZID=America/Denver:20231119T103000
DTEND;TZID=America/Denver:20231119T133000
DTSTAMP:20260419T104048
CREATED:20231106T165444Z
LAST-MODIFIED:20231106T165444Z
UID:10000330-1700389800-1700400600@alibi.com
SUMMARY:The Democratic Lens Scholar Lectures
DESCRIPTION:Photography is a powerful communication tool\, and photos and image distribution platforms have evolved to become accessible tools for everyday people to share and influence ideas about the nation’s past\, present\, and future. Join us online and in person on Nov. 19 with Dr. Makeda Best and Dr. Leigh Raiford as they consider the social and political impact of photographs. \n• Photography\, Ecology\, Democracy with Dr. Makeda Best\, Deputy Director of Curatorial Affairs at the Oakland Museum of California\n• “Deep Into What I’m Seeing”: Photography and the Making and Unmaking of Black Citizenship with Dr. Leigh Raiford\, Professor of African American Studies\, University of California\, Berkeley \nWHEN • Sunday\, November 19\, 2023\, from 10:30 AM – 1:30 PM MT\nWHERE • Livestream and in person at the NM History Museum – 113 Lincoln Ave\, Santa Fe\, NM 87501\nHOW • Free and Public \nImage © Ted Polumbaum. “Group of volunteers sing “We Shall Overcome” before beginning the journey from Oxford\, Ohio\, to Mississippi during Freedom Summer. 1964.” Courtesy of Freedom Forum. Featured in Dr. Leigh Raiford’s interview “How Civil Rights Photos Have Been Used and Remembered” for The Democratic Lens. \nLearn more about the Scholar Lectures online – www.thedemocraticlens.org
URL:https://alibi.com/event/the-democratic-lens-scholar-lectures/
LOCATION:New Mexico History Museum\, 113 Lincoln Ave\, Santa Fe\, NM\, 87501\, United States
CATEGORIES:Arts & Culture
ATTACH;FMTTYPE=image/jpeg:https://alibi.com/wp-content/uploads/2023/08/382993865_707453108085730_1787496852399506682_n.jpg
END:VEVENT
END:VCALENDAR