BEGIN:VCALENDAR
VERSION:2.0
PRODID:-//Weekly Alibi - ECPv6.1.3//NONSGML v1.0//EN
CALSCALE:GREGORIAN
METHOD:PUBLISH
X-ORIGINAL-URL:https://alibi.com
X-WR-CALDESC:Events for Weekly Alibi
REFRESH-INTERVAL;VALUE=DURATION:PT1H
X-Robots-Tag:noindex
X-PUBLISHED-TTL:PT1H
BEGIN:VTIMEZONE
TZID:America/Denver
BEGIN:DAYLIGHT
TZOFFSETFROM:-0700
TZOFFSETTO:-0600
TZNAME:MDT
DTSTART:20240310T090000
END:DAYLIGHT
BEGIN:STANDARD
TZOFFSETFROM:-0600
TZOFFSETTO:-0700
TZNAME:MST
DTSTART:20241103T080000
END:STANDARD
END:VTIMEZONE
BEGIN:VEVENT
DTSTART;TZID=America/Denver:20240129T170000
DTEND;TZID=America/Denver:20240130T190000
DTSTAMP:20260419T090553
CREATED:20240130T232537Z
LAST-MODIFIED:20240130T232537Z
UID:10000424-1706547600-1706641200@alibi.com
SUMMARY:Living Estate Auction (Online Only) Albuquerque\, NM
DESCRIPTION:Mon 29 Jan 2024 5PM  – 07:45PM\nTue 30 Jan 2024 5PM  – 7PM \nLarge Living Estate Auction – One household full of of treasures like antiques\, tools\, cooking appliances\, books\, collectibles\, blankets\, baskets\, garden\nONLINE Only auction – pickup in albuquerque\, NM. beginning on Wednesday\, January 31.
URL:https://alibi.com/event/living-estate-auction-online-only-albuquerque-nm/
LOCATION:Online\, Virtual\, Albuquerque\, NM\, 87111\, United States
CATEGORIES:Special Interest
ATTACH;FMTTYPE=image/jpeg:https://alibi.com/wp-content/uploads/2023/08/DH02VBiFjUmSHacYe5pVpQ.large_.jpg
END:VEVENT
END:VCALENDAR