BEGIN:VCALENDAR
VERSION:2.0
PRODID:-//Weekly Alibi - ECPv6.1.3//NONSGML v1.0//EN
CALSCALE:GREGORIAN
METHOD:PUBLISH
X-ORIGINAL-URL:https://alibi.com
X-WR-CALDESC:Events for Weekly Alibi
REFRESH-INTERVAL;VALUE=DURATION:PT1H
X-Robots-Tag:noindex
X-PUBLISHED-TTL:PT1H
BEGIN:VTIMEZONE
TZID:America/Denver
BEGIN:DAYLIGHT
TZOFFSETFROM:-0700
TZOFFSETTO:-0600
TZNAME:MDT
DTSTART:20230312T090000
END:DAYLIGHT
BEGIN:STANDARD
TZOFFSETFROM:-0600
TZOFFSETTO:-0700
TZNAME:MST
DTSTART:20231105T080000
END:STANDARD
END:VTIMEZONE
BEGIN:VEVENT
DTSTART;TZID=America/Denver:20231117T190000
DTEND;TZID=America/Denver:20231117T210000
DTSTAMP:20260419T091526
CREATED:20231106T165555Z
LAST-MODIFIED:20231106T165555Z
UID:10000356-1700247600-1700254800@alibi.com
SUMMARY:OrnEtc. Concert
DESCRIPTION:New Mexico’s own modern jazz band playing all-original contemporary compositions will be performing on Nov. 17 in Santa Fe. Featured soloists include Alex Murzyn and Chris Jonas.
URL:https://alibi.com/event/ornetc-concert/
LOCATION:Paradiso Santa Fe\, 903 Early St.\, Santa Fe\, NM\, 87501\, United States
CATEGORIES:Music
ATTACH;FMTTYPE=image/jpeg:https://alibi.com/wp-content/uploads/2023/08/IMG_8933.jpeg
END:VEVENT
END:VCALENDAR