BEGIN:VCALENDAR
VERSION:2.0
PRODID:-//Weekly Alibi - ECPv6.1.3//NONSGML v1.0//EN
CALSCALE:GREGORIAN
METHOD:PUBLISH
X-ORIGINAL-URL:https://alibi.com
X-WR-CALDESC:Events for Weekly Alibi
REFRESH-INTERVAL;VALUE=DURATION:PT1H
X-Robots-Tag:noindex
X-PUBLISHED-TTL:PT1H
BEGIN:VTIMEZONE
TZID:America/Denver
BEGIN:DAYLIGHT
TZOFFSETFROM:-0700
TZOFFSETTO:-0600
TZNAME:MDT
DTSTART:20230312T090000
END:DAYLIGHT
BEGIN:STANDARD
TZOFFSETFROM:-0600
TZOFFSETTO:-0700
TZNAME:MST
DTSTART:20231105T080000
END:STANDARD
END:VTIMEZONE
BEGIN:VEVENT
DTSTART;TZID=America/Denver:20231029T170000
DTEND;TZID=America/Denver:20231029T190000
DTSTAMP:20260419T144126
CREATED:20231009T151249Z
LAST-MODIFIED:20231009T151249Z
UID:10000309-1698598800-1698606000@alibi.com
SUMMARY:Trunk or Treat event at Parnall Law
DESCRIPTION:A Trunk or Treat event will be held at Parnall Law\, 2155 Louisiana Blvd. NE in Albuquerque\, on Sunday\, October 29\, 2023 from 5 p.m. to 7 p.m. \nCome and join the fun! Our team will bring the trunks and treats – you bring the trick-or-treaters! Random gifts for the most creative costumes will be awarded. \nSee you there!
URL:https://alibi.com/event/trunk-or-treat-event-at-parnall-law/
LOCATION:Parnall Law\, 2155 Louisiana Blvd. NE\, Albuquerque\, NM\, 87110\, United States
CATEGORIES:Family & Kids
ATTACH;FMTTYPE=image/jpeg:https://alibi.com/wp-content/uploads/2023/08/Capture.jpg
END:VEVENT
END:VCALENDAR