BEGIN:VCALENDAR
VERSION:2.0
PRODID:-//Weekly Alibi - ECPv6.1.3//NONSGML v1.0//EN
CALSCALE:GREGORIAN
METHOD:PUBLISH
X-WR-CALNAME:Weekly Alibi
X-ORIGINAL-URL:https://alibi.com
X-WR-CALDESC:Events for Weekly Alibi
REFRESH-INTERVAL;VALUE=DURATION:PT1H
X-Robots-Tag:noindex
X-PUBLISHED-TTL:PT1H
BEGIN:VTIMEZONE
TZID:America/Denver
BEGIN:DAYLIGHT
TZOFFSETFROM:-0700
TZOFFSETTO:-0600
TZNAME:MDT
DTSTART:20230312T090000
END:DAYLIGHT
BEGIN:STANDARD
TZOFFSETFROM:-0600
TZOFFSETTO:-0700
TZNAME:MST
DTSTART:20231105T080000
END:STANDARD
END:VTIMEZONE
BEGIN:VEVENT
DTSTART;VALUE=DATE:20231104
DTEND;VALUE=DATE:20231105
DTSTAMP:20260420T070233
CREATED:20230911T201529Z
LAST-MODIFIED:20230911T201529Z
UID:10000284-1699056000-1699142399@alibi.com
SUMMARY:Craft Fair
DESCRIPTION:13th Annual Craft Fair\, Saturday\, November 4th\, 9 AM to 3 PM\, Rio Rancho United Methodist Church\, 1652 Abrazo Road NE\, Rio Rancho\, NM 87124\, Over 55 Vendors\, All with Hand-Crafted Items
URL:https://alibi.com/event/craft-fair/
LOCATION:Rio Rancho United Methodist Church\, 1652 Abrazo Road NE\, Rio Rancho\, NM\, 87124\, United States
CATEGORIES:Fairs & Festivals
ATTACH;FMTTYPE=image/jpeg:https://alibi.com/wp-content/uploads/2023/08/craft-fair.jpg
END:VEVENT
END:VCALENDAR