BEGIN:VCALENDAR
VERSION:2.0
PRODID:-//Weekly Alibi - ECPv6.1.3//NONSGML v1.0//EN
CALSCALE:GREGORIAN
METHOD:PUBLISH
X-ORIGINAL-URL:https://alibi.com
X-WR-CALDESC:Events for Weekly Alibi
REFRESH-INTERVAL;VALUE=DURATION:PT1H
X-Robots-Tag:noindex
X-PUBLISHED-TTL:PT1H
BEGIN:VTIMEZONE
TZID:America/Denver
BEGIN:DAYLIGHT
TZOFFSETFROM:-0700
TZOFFSETTO:-0600
TZNAME:MDT
DTSTART:20240310T090000
END:DAYLIGHT
BEGIN:STANDARD
TZOFFSETFROM:-0600
TZOFFSETTO:-0700
TZNAME:MST
DTSTART:20241103T080000
END:STANDARD
END:VTIMEZONE
BEGIN:VEVENT
DTSTART;TZID=America/Denver:20240203T110000
DTEND;TZID=America/Denver:20240203T140000
DTSTAMP:20260419T110314
CREATED:20240103T163500Z
LAST-MODIFIED:20240103T163500Z
UID:10000392-1706958000-1706968800@alibi.com
SUMMARY:Join us For Souper Bowl 2024!
DESCRIPTION:Join us for a day filled with delicious soups from local restaurants and live music at Souper Bowl 2024!\nSouper Bowl 2024 will occur on Saturday\, February 3\, 2024\, from 11 am to 2 pm. All money raised will go towards helping Roadrunner Food Bank’s mission to provide nourishing food to New Mexicans facing hunger.\nTickets are $50 for adults and $15 for children.\nGet your tickets at; https://www.rrfb.org/souper-bowl/
URL:https://alibi.com/event/join-us-for-souper-bowl-2024/
LOCATION:Roadrunner Food Bank\, 5840 Office Blvd NE\, Albuquerque\, NM\, 87109\, United States
CATEGORIES:Food & Drink
ATTACH;FMTTYPE=image/png:https://alibi.com/wp-content/uploads/2023/08/Souper-Bowl-2024-1.png
END:VEVENT
END:VCALENDAR