BEGIN:VCALENDAR
VERSION:2.0
PRODID:-//Weekly Alibi - ECPv6.1.3//NONSGML v1.0//EN
CALSCALE:GREGORIAN
METHOD:PUBLISH
X-WR-CALNAME:Weekly Alibi
X-ORIGINAL-URL:https://alibi.com
X-WR-CALDESC:Events for Weekly Alibi
REFRESH-INTERVAL;VALUE=DURATION:PT1H
X-Robots-Tag:noindex
X-PUBLISHED-TTL:PT1H
BEGIN:VTIMEZONE
TZID:America/Denver
BEGIN:DAYLIGHT
TZOFFSETFROM:-0700
TZOFFSETTO:-0600
TZNAME:MDT
DTSTART:20230312T090000
END:DAYLIGHT
BEGIN:STANDARD
TZOFFSETFROM:-0600
TZOFFSETTO:-0700
TZNAME:MST
DTSTART:20231105T080000
END:STANDARD
END:VTIMEZONE
BEGIN:VEVENT
DTSTART;TZID=America/Denver:20231021T130000
DTEND;TZID=America/Denver:20231021T150000
DTSTAMP:20260419T123155
CREATED:20231010T133012Z
LAST-MODIFIED:20231010T133012Z
UID:10000311-1697893200-1697900400@alibi.com
SUMMARY:Annual Spooktacular Extravaganza
DESCRIPTION:Sandia Sunrise Therapy is hosting our Fourth Annual Spooktacular Extravaganza\, full of games\, prizes\, and treats. This is a free event\, so grab your costumes and join us at our outdoor\, multi-interactive\, fun stations for the whole family. Our theme this year is video game characters!! \nIn addition to all the fun and games\, we will hold a raffle full of wonderful prizes from local businesses in the Albuquerque community. All proceeds will be donated to the Children’s Cancer Fund of New Mexico\, a nonprofit organization that provides programs and services to children with cancer and their families. They can help alleviate the emotional and financial burdens of childhood cancer. \nRaffle tickets will be sold online in advance and during our event for $5 for one\, $12 for three\, or $20 for five. Winners do not need to be present to win. Tickets can be purchased using cash\, Venmo\, and PayPal. For advanced raffle ticket sales\, check out our website: https://www.sandiasunrisetherapy.com/…/annual…\nVenmo & PayPal username: @sandiasunrisetherapy \nSandia Sunrise Therapy\, 9550 San Mateo Blvd NE Suite A\, Albuquerque\, NM 87113
URL:https://alibi.com/event/annual-spooktacular-extravaganza/
LOCATION:Sandia Sunrise Therapy\, 9550 San Mateo Blvd NE Suite A\, Albuquerque\, NM\, 87113\, United States
CATEGORIES:Family & Kids
ATTACH;FMTTYPE=image/jpeg:https://alibi.com/wp-content/uploads/2023/08/Annual-Spooktacular-Extravaganza.jpg
END:VEVENT
END:VCALENDAR