BEGIN:VCALENDAR
VERSION:2.0
PRODID:-//Weekly Alibi - ECPv6.1.3//NONSGML v1.0//EN
CALSCALE:GREGORIAN
METHOD:PUBLISH
X-WR-CALNAME:Weekly Alibi
X-ORIGINAL-URL:https://alibi.com
X-WR-CALDESC:Events for Weekly Alibi
REFRESH-INTERVAL;VALUE=DURATION:PT1H
X-Robots-Tag:noindex
X-PUBLISHED-TTL:PT1H
BEGIN:VTIMEZONE
TZID:America/Denver
BEGIN:DAYLIGHT
TZOFFSETFROM:-0700
TZOFFSETTO:-0600
TZNAME:MDT
DTSTART:20230312T090000
END:DAYLIGHT
BEGIN:STANDARD
TZOFFSETFROM:-0600
TZOFFSETTO:-0700
TZNAME:MST
DTSTART:20231105T080000
END:STANDARD
END:VTIMEZONE
BEGIN:VEVENT
DTSTART;TZID=America/Denver:20231215T104500
DTEND;TZID=America/Denver:20231215T120000
DTSTAMP:20260420T085229
CREATED:20231106T163532Z
LAST-MODIFIED:20231106T163532Z
UID:10000343-1702637100-1702641600@alibi.com
SUMMARY:NM Philharmonic:  Part Bach\, Part Pärt
DESCRIPTION:Roberto Minczuk Music Director \nJ.S. Bach Brandenburg Concerto No. 3\nPärt Fratres for Strings\nJ.S. Bach Orchestral Suite No. 3 \nGood morning\, Albuquerque! This NMPhil Coffee Concert features two favorites from the masterful J.S. Bach and brings the rich string sounds of Arvo Pärt to the stage. Hear these mavens of sacred and art music of the eighteenth and twentieth centuries\, respectively. Join us!
URL:https://alibi.com/event/nm-philharmonic-part-bach-part-part/
LOCATION:South Broadway Cultural Center: The John Lewis Theatre\, 1025 Broadway Blvd SE\, Albuquerque\, NM\, 87102\, United States
CATEGORIES:Music
ATTACH;FMTTYPE=image/jpeg:https://alibi.com/wp-content/uploads/2023/08/12-15-2023-nmphil-cc-hero2-1536x1536-1.jpg
END:VEVENT
END:VCALENDAR