BEGIN:VCALENDAR
VERSION:2.0
PRODID:-//Weekly Alibi - ECPv6.1.3//NONSGML v1.0//EN
CALSCALE:GREGORIAN
METHOD:PUBLISH
X-ORIGINAL-URL:https://alibi.com
X-WR-CALDESC:Events for Weekly Alibi
REFRESH-INTERVAL;VALUE=DURATION:PT1H
X-Robots-Tag:noindex
X-PUBLISHED-TTL:PT1H
BEGIN:VTIMEZONE
TZID:America/Denver
BEGIN:DAYLIGHT
TZOFFSETFROM:-0700
TZOFFSETTO:-0600
TZNAME:MDT
DTSTART:20230312T090000
END:DAYLIGHT
BEGIN:STANDARD
TZOFFSETFROM:-0600
TZOFFSETTO:-0700
TZNAME:MST
DTSTART:20231105T080000
END:STANDARD
END:VTIMEZONE
BEGIN:VEVENT
DTSTART;TZID=America/Denver:20230922T104500
DTEND;TZID=America/Denver:20230922T120000
DTSTAMP:20260420T125953
CREATED:20230825T231347Z
LAST-MODIFIED:20230825T231436Z
UID:10000268-1695379500-1695384000@alibi.com
SUMMARY:Something Old\, Something New
DESCRIPTION:Roberto Minczuk NMPhil Music Director\nSarah Tasker violin\nNancy Granert organ \nVivaldi Christmas Concerto\nJ.S. Bach Organ Concerto in d minor\, BWV 596\nMichael McLean Elements for Violin and String Orchestra \nTake a break from your usual weekday morning for a little music. The first NMPhil Coffee Concert of the season brings the sonorous virtuosity of Michael McLean’s 21st-century violin masterwork\, Elements\, with violinist Sarah Tasker\, the NMPhil’s own assistant concertmaster. Contrasting though not competing\, the program also features music by Baroque-era master Antonio Vivaldi as well as J.S. Bach’s Organ Concerto in d minor with organist Nancy Granert.
URL:https://alibi.com/event/something-old-something-new/
LOCATION:St. John United Methodist Church\, 2626 Arizona St NE\, Albuquerque\, NM\, 87110\, United States
CATEGORIES:Music
ATTACH;FMTTYPE=image/jpeg:https://alibi.com/wp-content/uploads/2023/08/9-22-23-nmphil-cc-hero.jpg
END:VEVENT
END:VCALENDAR