BEGIN:VCALENDAR
VERSION:2.0
PRODID:-//Weekly Alibi - ECPv6.1.3//NONSGML v1.0//EN
CALSCALE:GREGORIAN
METHOD:PUBLISH
X-ORIGINAL-URL:https://alibi.com
X-WR-CALDESC:Events for Weekly Alibi
REFRESH-INTERVAL;VALUE=DURATION:PT1H
X-Robots-Tag:noindex
X-PUBLISHED-TTL:PT1H
BEGIN:VTIMEZONE
TZID:America/Denver
BEGIN:DAYLIGHT
TZOFFSETFROM:-0700
TZOFFSETTO:-0600
TZNAME:MDT
DTSTART:20230312T090000
END:DAYLIGHT
BEGIN:STANDARD
TZOFFSETFROM:-0600
TZOFFSETTO:-0700
TZNAME:MST
DTSTART:20231105T080000
END:STANDARD
END:VTIMEZONE
BEGIN:VEVENT
DTSTART;TZID=America/Denver:20231023T180000
DTEND;TZID=America/Denver:20231023T190000
DTSTAMP:20260419T094721
CREATED:20231009T151520Z
LAST-MODIFIED:20231009T151520Z
UID:10000303-1698084000-1698087600@alibi.com
SUMMARY:Music at Tamarind: UNM Abe Quartets perform Mendelssohn's Famous Octet Op. 20
DESCRIPTION:Tamarind Institute is delighted to host the Department of Music for an open rehearsal in the gallery space. Please join us for this free inaugural event featuring university students under the direction of cello professor\, Dr. Christoph Wagner. \nOpen Rehearsal of Felix Mendelssohn’s Famous String Octet Op. 20 \nPresented by the two Abe Franck String Quartets\, moderated by Dr. Christoph Wagner \nMonday\, October 23\, 6-7 pm\, Tamarind Institute\n2500 Central Ave SE\, entrance on Stanford Drive\nDoors open at 5:30
URL:https://alibi.com/event/music-at-tamarind-unm-abe-quartets-perform-mendelssohns-famous-octet-op-20/
LOCATION:Tamarind Institute\, 2500 Central Ave SE (Stanford Drive entrance)\, Albuquerque\, NM\, 87106\, United States
CATEGORIES:Music
ATTACH;FMTTYPE=image/jpeg:https://alibi.com/wp-content/uploads/2023/08/Abe-Quartets-20231023-960.jpg
END:VEVENT
END:VCALENDAR