BEGIN:VCALENDAR
VERSION:2.0
PRODID:-//Weekly Alibi - ECPv6.1.3//NONSGML v1.0//EN
CALSCALE:GREGORIAN
METHOD:PUBLISH
X-WR-CALNAME:Weekly Alibi
X-ORIGINAL-URL:https://alibi.com
X-WR-CALDESC:Events for Weekly Alibi
REFRESH-INTERVAL;VALUE=DURATION:PT1H
X-Robots-Tag:noindex
X-PUBLISHED-TTL:PT1H
BEGIN:VTIMEZONE
TZID:America/Denver
BEGIN:DAYLIGHT
TZOFFSETFROM:-0700
TZOFFSETTO:-0600
TZNAME:MDT
DTSTART:20240310T090000
END:DAYLIGHT
BEGIN:STANDARD
TZOFFSETFROM:-0600
TZOFFSETTO:-0700
TZNAME:MST
DTSTART:20241103T080000
END:STANDARD
END:VTIMEZONE
BEGIN:VEVENT
DTSTART;TZID=America/Denver:20240123T153000
DTEND;TZID=America/Denver:20240125T200000
DTSTAMP:20260419T110959
CREATED:20240115T165444Z
LAST-MODIFIED:20240115T165444Z
UID:10000410-1706023800-1706212800@alibi.com
SUMMARY:New Mexico Filmmaker's latest film INGRESS Screening at The Guild Cinema
DESCRIPTION:INGRESS at The Guild Cinema  \nINGRESS will be screening in ABQ at The Guild Cinema on Tues Jan 23\, Wednesday Jan 24 and Thursday Jan 25th at 3:30 and 6:00PM.   \nBONUS: Tuesday Jan 23 the 6:00PM showing will include a Q+A with filmmaker Rachel Noll James after the screening. \nTICKETS: https://www.guildcinema.com/movies/ingress \n—————— \nLogline: A woman who can move between parallel realities loses her husband tragically and must overcome past trauma to travel the multiverse once again and find her way into a reality where he is still alive.  \nWritten & Directed by Santa Fe Native Rachel Noll James \nStarring Rachel Noll James (Inheritance\, Don’t Pass Me By\, Malibu Road)\, Tim DeKay (Oppenheimer\, White Collar)\, and Johnny Ferro (Hand of God) \n“Indie filmmaking at its most poignant and profound.” – Chris Jones\, OHMR \n“INGRESS keeps the focus on the story that despite its many layers of realiity remains comprehensible and also engaging throughout\, making this a rather wonderful watch.” – Mike Haberfeiner\, Search My Trash \nTrailer: https://www.youtube.com/watch?v=FjyMgQwoYak
URL:https://alibi.com/event/new-mexico-filmmakers-latest-film-ingress-screening-at-the-guild-cinema/
LOCATION:The Guild Cinema\, 3405 Central Avenue NE\, Albuquerque\, NM\, 87106\, United States
CATEGORIES:Arts & Culture
ATTACH;FMTTYPE=image/png:https://alibi.com/wp-content/uploads/2023/08/INGRESS-Guild-Cinema-ABQ.png
END:VEVENT
END:VCALENDAR