BEGIN:VCALENDAR
VERSION:2.0
PRODID:-//Weekly Alibi - ECPv6.1.3//NONSGML v1.0//EN
CALSCALE:GREGORIAN
METHOD:PUBLISH
X-ORIGINAL-URL:https://alibi.com
X-WR-CALDESC:Events for Weekly Alibi
REFRESH-INTERVAL;VALUE=DURATION:PT1H
X-Robots-Tag:noindex
X-PUBLISHED-TTL:PT1H
BEGIN:VTIMEZONE
TZID:America/Denver
BEGIN:DAYLIGHT
TZOFFSETFROM:-0700
TZOFFSETTO:-0600
TZNAME:MDT
DTSTART:20230312T090000
END:DAYLIGHT
BEGIN:STANDARD
TZOFFSETFROM:-0600
TZOFFSETTO:-0700
TZNAME:MST
DTSTART:20231105T080000
END:STANDARD
END:VTIMEZONE
BEGIN:VEVENT
DTSTART;TZID=America/Denver:20230923T100000
DTEND;TZID=America/Denver:20230924T170000
DTSTAMP:20260420T121008
CREATED:20230905T140138Z
LAST-MODIFIED:20230905T140138Z
UID:10000279-1695463200-1695574800@alibi.com
SUMMARY:Turquoise Trail Studio Tour
DESCRIPTION:The Turquoise Trail Studio Tour is a marketplace of artisans; painters\, sculptors\, photographers\, ceramicists\, fiber artists\, glass artists and jewelers. Over 40 artists from Cedar Crest\, Cerrillos\, Madrid\, and Santa Fe will have their studio and gallery doors open for your visit. Come see the natural beauty of the scenic route and meet the artists and collect diverse and original artwork. Visit the little villages along the way and explore unique studios where the artists create their original work. \nVisit our website for a map and listing of all the artists: https://www.turquoisetrailstudiotour.com \nIG: https://www.instagram.com/turquoise_trail_studio_tour.com/ \nSeptember 23 -24 and September 30-October 1\, 2023; 10:00 to 5:00 pm doors will be open.
URL:https://alibi.com/event/turquoise-trail-studio-tour/
LOCATION:Turquoise Trail Studio Tour\, State Highway 14\, Madrid\, NM\, 87010\, United States
CATEGORIES:Arts & Culture
ATTACH;FMTTYPE=image/jpeg:https://alibi.com/wp-content/uploads/2023/08/TTSTGroup-2023.jpg
END:VEVENT
END:VCALENDAR