BEGIN:VCALENDAR
VERSION:2.0
PRODID:-//Weekly Alibi - ECPv6.1.3//NONSGML v1.0//EN
CALSCALE:GREGORIAN
METHOD:PUBLISH
X-WR-CALNAME:Weekly Alibi
X-ORIGINAL-URL:https://alibi.com
X-WR-CALDESC:Events for Weekly Alibi
REFRESH-INTERVAL;VALUE=DURATION:PT1H
X-Robots-Tag:noindex
X-PUBLISHED-TTL:PT1H
BEGIN:VTIMEZONE
TZID:America/Denver
BEGIN:DAYLIGHT
TZOFFSETFROM:-0700
TZOFFSETTO:-0600
TZNAME:MDT
DTSTART:20240310T090000
END:DAYLIGHT
BEGIN:STANDARD
TZOFFSETFROM:-0600
TZOFFSETTO:-0700
TZNAME:MST
DTSTART:20241103T080000
END:STANDARD
END:VTIMEZONE
BEGIN:VEVENT
DTSTART;TZID=America/Denver:20240324T150000
DTEND;TZID=America/Denver:20240324T170000
DTSTAMP:20260420T084955
CREATED:20240213T202443Z
LAST-MODIFIED:20240213T202443Z
UID:10000432-1711292400-1711299600@alibi.com
SUMMARY:NM Philharmonic:  A Glimpse of the Future
DESCRIPTION:A Glimpse of the Future\nSunday\, March 24\, 2024\, 3 p.m. \nRoberto Minczuk Music Director\nRafael Ingliss piano\nGabriel Ingliss violin \nMozart Overture to The Impresario\nMozart Piano Concerto No. 12 in A Major\, K. 414\nMendelssohn Violin Concerto in e minor\, Op. 64\nHaydn Symphony No. 88 \nEach year\, the Music Guild of New Mexico holds the Jackie McGehee Young Artists’ Competition for Piano and Strings\, giving musicians ages 10 to 21 the opportunity to compete for a chance to perform with your NMPhil! Hear two first-place winners each perform a concerto with the orchestra\, led by Music Director Roberto Minczuk. And hear Haydn’s spirited\, energetic Symphony No. 88\, a 1787 masterpiece.
URL:https://alibi.com/event/nm-philharmonic-a-glimpse-of-the-future/
LOCATION:Volcano Vista High School (Performing Arts Center)\, 8100 Rainbow Blvd NW\, Albuquerque\, NM\, 87114\, United States
CATEGORIES:Music
ATTACH;FMTTYPE=image/jpeg:https://alibi.com/wp-content/uploads/2023/08/03-24-2024-nmphil-ac-hero3-1536x1536-1.jpg
END:VEVENT
END:VCALENDAR